BEGIN:VCALENDAR
VERSION:2.0
PRODID:-//ChamberMaster//Event Calendar 2.0//EN
METHOD:PUBLISH
X-PUBLISHED-TTL:P3D
REFRESH-INTERVAL:P3D
CALSCALE:GREGORIAN
BEGIN:VEVENT
DTSTART:20180626T230000Z
DTEND:20180627T000000Z
X-MICROSOFT-CDO-ALLDAYEVENT:FALSE
SUMMARY:Relay For Life - Wrap UP
DESCRIPTION:Wrapping up the 2018 year and planning for the 2019 year. Find out what Relay is all about. Sign up to join the Leadership team or start a team.
X-ALT-DESC;FMTTYPE=text/html:Wrapping up the 2018 year and planning for the 2019 year. Find out what Relay is all about. Sign up to join the Leadership team or start a team.
LOCATION:LaPorte First Church of God 2020 E Lincolnway LaPorte\, IN 46350
UID:e.1949.4185
SEQUENCE:3
DTSTAMP:20260424T084409Z
URL:https://members.laportepartnership.com/events/details/relay-for-life-wrap-up-4185
END:VEVENT

END:VCALENDAR
