BEGIN:VCALENDAR
VERSION:2.0
PRODID:-//ChamberMaster//Event Calendar 2.0//EN
METHOD:PUBLISH
X-PUBLISHED-TTL:P3D
REFRESH-INTERVAL:P3D
CALSCALE:GREGORIAN
BEGIN:VEVENT
DTSTART:20191010T210000Z
DTEND:20191010T230000Z
X-MICROSOFT-CDO-ALLDAYEVENT:FALSE
SUMMARY:Reprographic Arts La Porte Ribbon Cutting Ceremony
DESCRIPTION:Join us for a ribbon cutting ceremony at Reprographic Arts La Porte location. The ceremony will take place at 1105 East Lincolnway in La Porte from 4:00 p.m. to 6:00 p.m. The ribbon will be cut at 4:30 p.m. This ribbon cutting is a joint effort by the La Porte Economic Advancement Partnership\, Duneland Chamber of Commerce\, and the Michigan City Chamber of Commerce.
X-ALT-DESC;FMTTYPE=text/html:Join us for a ribbon cutting ceremony at Reprographic Arts La Porte location. The ceremony will take place at 1105 East Lincolnway in La Porte from 4:00 p.m. to 6:00 p.m. The ribbon will be cut at 4:30 p.m. This ribbon cutting is a joint effort by the La Porte Economic Advancement Partnership\, Duneland Chamber of Commerce\, and the Michigan City Chamber of Commerce.
LOCATION:1105 East Lincolnway La Porte
UID:e.1949.4545
SEQUENCE:3
DTSTAMP:20260423T063445Z
URL:https://members.laportepartnership.com/events/details/reprographic-arts-la-porte-ribbon-cutting-ceremony-4545
END:VEVENT

END:VCALENDAR
