BEGIN:VCALENDAR
VERSION:2.0
PRODID:-//ChamberMaster//Event Calendar 2.0//EN
METHOD:PUBLISH
X-PUBLISHED-TTL:P3D
REFRESH-INTERVAL:P3D
CALSCALE:GREGORIAN
BEGIN:VEVENT
DTSTART:20180404T210000Z
DTEND:20180404T220000Z
X-MICROSOFT-CDO-ALLDAYEVENT:FALSE
SUMMARY:Reprographic Arts Ribbon Cutting & Open House
DESCRIPTION:Join the Greater La Porte Chamber\, Michigan City\, and Duneland of Commerces for a ribbon cutting at Reprographic Arts\, 2824 E. Michigan Boulevard in Michigan City. The event will be on April 4 with the ribbon cutting taking place at 4:30 p.m. to celebrate the new location of the business.\n\nReprographic Arts uses many years of experience and resources to offer quality products\, on-time production\, and installation to fit most business needs. The businesss got its start in 1970 when Fred Brown\, WWII veteran and Engineer\, was working for a drafting supply company and was engaged by a local architect in Michigan City.  Fred opened up a blueprint shop inside the architect's building. Then in 1992\, Fred's son Kevin Brown came on board. Since then\, Reprographic Arts has added a Signs & Banners Department and then Screen Printing & Embroidery.\n\nTo learn more about Reprographic Arts\, go to their Facebook page or visit their website at www.reprographicarts.com.
X-ALT-DESC;FMTTYPE=text/html:<span style="font-family:georgia\,serif\;"><span style="font-size:12.0pt\;">Join the Greater La Porte Chamber\, Michigan City\, and Duneland of Commerces for a ribbon cutting at Reprographic Arts\, 2824 E. Michigan Boulevard in Michigan City. The event will be on April 4 with the ribbon cutting taking place at 4:30 p.m. to celebrate the new location of the business.</span></span><br />\n<span style="font-family:georgia\,serif\;"><span style="font-size:12.0pt\;">Reprographic Arts uses many years of experience and resources to offer quality products\, on-time production\, and installation to fit most business needs. The businesss got its start in 1970 when Fred Brown\, WWII veteran and Engineer\, was working for a drafting supply company and was engaged by a local architect in Michigan City.&nbsp\; Fred opened up a blueprint shop inside the architect&rsquo\;s building. Then in 1992\, Fred&rsquo\;s son Kevin Brown came on board. Since then\, Reprographic Arts has added a Signs &amp\; Banners Department and then Screen Printing &amp\; Embroidery.</span></span><br />\n<span style="font-family:georgia\,serif\;"><span style="font-size:12.0pt\;">To learn more about Reprographic Arts\, go to their Facebook page or visit their website at www.reprographicarts.com.</span></span>
LOCATION:Reprographic Arts 2824 E. Michigan Boulevard Michigan City
UID:e.1949.3087
SEQUENCE:3
DTSTAMP:20260424T115719Z
URL:https://members.laportepartnership.com/events/details/reprographic-arts-ribbon-cutting-open-house-3087
END:VEVENT

END:VCALENDAR
