BEGIN:VCALENDAR
VERSION:2.0
PRODID:-//ChamberMaster//Event Calendar 2.0//EN
METHOD:PUBLISH
X-PUBLISHED-TTL:P3D
REFRESH-INTERVAL:P3D
CALSCALE:GREGORIAN
BEGIN:VEVENT
DTSTART:20190602T190000Z
DTEND:20190602T210000Z
X-MICROSOFT-CDO-ALLDAYEVENT:FALSE
SUMMARY:Reptile Romp
DESCRIPTION:Join us for an afternoon of reptile and amphibian adventures throughout the pristine natural habitats of the Gardens! Learn about the roles slimy and slithery creatures play in ecosystems through hands-on science activities! FREE admission!
X-ALT-DESC;FMTTYPE=text/html:<p><span style="background-color:transparent\; color:rgb(0\, 0\, 0)\; font-family:times new roman\; font-size:12pt">Join us for an afternoon of reptile and amphibian adventures throughout the pristine natural habitats of the Gardens! Learn about the roles slimy and slithery creatures play in ecosystems through hands-on science activities! FREE admission!</span></p>\n
LOCATION:Friendship Botanic Gardens 2055 East US Highway 12 Michigan City\, IN 46360
UID:e.1949.4318
SEQUENCE:3
DTSTAMP:20260423T132903Z
URL:https://members.laportepartnership.com/events/details/reptile-romp-4318
END:VEVENT

END:VCALENDAR
