BEGIN:VCALENDAR
VERSION:2.0
PRODID:-//ChamberMaster//Event Calendar 2.0//EN
METHOD:PUBLISH
X-PUBLISHED-TTL:P3D
REFRESH-INTERVAL:P3D
CALSCALE:GREGORIAN
BEGIN:VEVENT
DTSTART:20171202T230000Z
DTEND:20171203T020000Z
X-MICROSOFT-CDO-ALLDAYEVENT:FALSE
SUMMARY:Return of the “10 inch Masterpiece”- Opening Reception at Thaddeus C. Gallery
DESCRIPTION:The Thaddeus C. Gallery is celebrating 10 years at their downtown La Porte location by bringing back a popular exhibition\, the "10 inch Masterpiece" a fine art exhibition in which no work of art exceeds 10 inches in any direction. The exhibit will open with a reception on Saturday\, December 2nd from 5-8pm and will run until January 13\, 2018.\n\nA wide variety of work from Indiana based artists as well as artists from Chicago\, Seattle\, New York\, France and Japan will be on display. Among the many artists included in the exhibit are Tom Torluemke\, Sarah Takahashi\, Alan Larkin\, Gregg Hertzlieb\, Fotios Zemenides\, Melissa Washburn\, Linda Redman\, Laurel Izard\, Bradley Davenport\, Jennifer Qian\, Mikio Watanabe\, and gallery owners Thaddeus and Laura Cutler.  \n\nThe exhibition will run through January 13\, 2018.  The gallery is located at 822 Lincolnway\, Downtown LaPorte.
X-ALT-DESC;FMTTYPE=text/html:The Thaddeus C. Gallery is celebrating 10 years at their downtown La Porte location by bringing back a popular exhibition\, the &ldquo\;10 inch Masterpiece&rdquo\; a fine art exhibition in which no work of art exceeds 10 inches in any direction. The exhibit will open with a reception on Saturday\, December 2<sup>nd</sup> from 5-8pm and will run until January 13\, 2018.<br />\nA wide variety of work from Indiana based artists as well as artists from Chicago\, Seattle\, New York\, France and Japan will be on display. Among the many artists included in the exhibit are Tom Torluemke\, Sarah Takahashi\, Alan Larkin\, Gregg Hertzlieb\, Fotios Zemenides\, Melissa Washburn\, Linda Redman\, Laurel Izard\, Bradley Davenport\, Jennifer Qian\, Mikio Watanabe\, and gallery owners Thaddeus and Laura Cutler. &nbsp\;<br />\nThe exhibition will run through January 13\, 2018.&nbsp\; The gallery is located at 822 Lincolnway\, Downtown LaPorte.&nbsp\;
LOCATION:Thaddeus C. Gallery 822 Lincolnway La Porte
UID:e.1949.2958
SEQUENCE:3
DTSTAMP:20260424T213437Z
URL:https://members.laportepartnership.com/events/details/return-of-the-10-inch-masterpiece-opening-reception-at-thaddeus-c-gallery-2958
END:VEVENT

END:VCALENDAR
