BEGIN:VCALENDAR
VERSION:2.0
PRODID:-//ChamberMaster//Event Calendar 2.0//EN
METHOD:PUBLISH
X-PUBLISHED-TTL:P3D
REFRESH-INTERVAL:P3D
CALSCALE:GREGORIAN
BEGIN:VEVENT
DTSTART:20190608T170000Z
DTEND:20191005T170000Z
X-MICROSOFT-CDO-ALLDAYEVENT:FALSE
SUMMARY:Roland Lee Hockett Art Exhibit
DESCRIPTION:The La Porte County Historical Society Museum will be hosting an exhibition of the works of former LaPortean Roland Hockett. A 1956 graduate of and former art teacher at La Porte High School\, Roland Hockett has works installed internationally. The exhibit will include about 30 works in multi-media\, copper work\, paintings\, and sketches.
X-ALT-DESC;FMTTYPE=text/html:The La Porte County Historical Society Museum will be hosting an exhibition of the works of former LaPortean Roland Hockett. A 1956 graduate of and former art teacher at La Porte High School\, Roland Hockett has works installed internationally. The exhibit will include about 30 works in multi-media\, copper work\, paintings\, and sketches.
LOCATION:La Porte County Historical Society Museum
UID:e.1949.4365
SEQUENCE:3
DTSTAMP:20260423T063400Z
URL:https://members.laportepartnership.com/events/details/roland-lee-hockett-art-exhibit-4365
END:VEVENT

END:VCALENDAR
