BEGIN:VCALENDAR
VERSION:2.0
PRODID:-//ChamberMaster//Event Calendar 2.0//EN
METHOD:PUBLISH
X-PUBLISHED-TTL:P3D
REFRESH-INTERVAL:P3D
CALSCALE:GREGORIAN
BEGIN:VEVENT
DTSTART:20161003T210000Z
DTEND:20161003T213000Z
X-MICROSOFT-CDO-ALLDAYEVENT:FALSE
SUMMARY:Rotary Club Dedication of Reuben Eversman Concession Stand & Ribbon Cutting
DESCRIPTION:Rotary Club of La Porte\, La Porte Park and Recreation Department\, & La Porte Park Foundation\n\nPresent the Dedication of Reuben Eversman Concession State and Facility at Kesling Park\n\n\n\nMonday\, October 3rd at 4:00 p.m.\n\nConcession stand food to be provided\n\nRSVP to mfbuilders@comcast.net by Friday\, September 30th
X-ALT-DESC;FMTTYPE=text/html:Rotary Club of La Porte\,&nbsp\;La Porte Park and Recreation Department\, &amp\;&nbsp\;La Porte Park Foundation<br />\nPresent the Dedication of Reuben Eversman Concession State and Facility at Kesling Park<br />\n<br />\nMonday\, October 3rd at 4:00 p.m.<br />\nConcession stand food to be provided<br />\nRSVP to mfbuilders@comcast.net by Friday\, September 30th
LOCATION:Kesling Park
UID:e.1949.2632
SEQUENCE:3
DTSTAMP:20260425T204427Z
URL:https://members.laportepartnership.com/events/details/rotary-club-dedication-of-reuben-eversman-concession-stand-ribbon-cutting-2632
END:VEVENT

END:VCALENDAR
