BEGIN:VCALENDAR
VERSION:2.0
PRODID:-//ChamberMaster//Event Calendar 2.0//EN
METHOD:PUBLISH
X-PUBLISHED-TTL:P3D
REFRESH-INTERVAL:P3D
CALSCALE:GREGORIAN
BEGIN:VEVENT
DTSTART:20171109T220000Z
DTEND:20171110T010000Z
X-MICROSOFT-CDO-ALLDAYEVENT:FALSE
SUMMARY:RQAW Ribbon Cutting
DESCRIPTION:RQAW is celebrating its newly opened and renovated office in Northern Indiana with a ribbon cutting and open house reception on Thursday\, November 9\, 2017! The ribbon cutting will take place at 4:00 p.m. with a reception following until 7:00 p.m. Join us at at the Northwest Indiana Office\, 703 Michigan Avenue in La Porte. Mayor Mark Krentz\, the La Porte Chamber of Commerce and the Northwest Indiana Forum will host a ribbon cutting along with special guest\, Indiana Secretary of Career Connections & Talent\, Blair Milo. Cocktails and hor d'oeuvres to follow.\n\n\n\nRQAW designs with a relentless pursuit of innovation. Their experienced team will stop at nothing to deliver a project that is rooted in a progressive\, inventive\, and intentional mindset. Bringing your vision to life does not happen by chance\, but with strategic collaboration. For more information about RQAW\, visit www.rqaw.com.
X-ALT-DESC;FMTTYPE=text/html:<span style="color:#606060\;"><span style="font-family:helvetica\,sans-serif\;"><span style="font-size:11.5pt\;">RQAW is celebrating its newly opened and renovated office in Northern Indiana with a ribbon cutting and open house reception on Thursday\, November 9\, 2017! The ribbon cutting will take place at 4:00 p.m. with a reception following until 7:00 p.m. Join us at at the Northwest Indiana Office\, 703 Michigan Avenue in La Porte.&nbsp\;</span></span></span><strong style="color: rgb(96\, 96\, 96)\; font-family: helvetica\, sans-serif\; font-size: 15.3333px\;">Mayor Mark Krentz</strong><span style="color: rgb(96\, 96\, 96)\; font-family: helvetica\, sans-serif\; font-size: 15.3333px\;">\, the&nbsp\;</span><strong style="color: rgb(96\, 96\, 96)\; font-family: helvetica\, sans-serif\; font-size: 15.3333px\;">La Porte Chamber of Commerce</strong><span style="color: rgb(96\, 96\, 96)\; font-family: helvetica\, sans-serif\; font-size: 15.3333px\;">&nbsp\;and the&nbsp\;</span><strong style="color: rgb(96\, 96\, 96)\; font-family: helvetica\, sans-serif\; font-size: 15.3333px\;">Northwest Indiana Forum</strong><span style="color: rgb(96\, 96\, 96)\; font-family: helvetica\, sans-serif\; font-size: 15.3333px\;">&nbsp\;will host a ribbon cutting along with special guest\, Indiana Secretary of Career Connections &amp\; Talent\,&nbsp\;</span><strong style="color: rgb(96\, 96\, 96)\; font-family: helvetica\, sans-serif\; font-size: 15.3333px\;">Blair Milo</strong><span style="color: rgb(96\, 96\, 96)\; font-family: helvetica\, sans-serif\; font-size: 15.3333px\;">. Cocktails and hor d&rsquo\;oeuvres to follow.</span><br />\n<br />\n<span style="color:#606060\;"><span style="font-family:helvetica\,sans-serif\;"><span style="font-size:11.5pt\;">RQAW&nbsp\;designs with a relentless pursuit of innovation. Their experienced team will stop at nothing to deliver a project that is rooted in a progressive\, inventive\, and intentional mindset. Bringing your vision to life does not happen by chance\, but with strategic collaboration. For more information about RQAW\, visit www.rqaw.com.</span></span></span>
LOCATION:RQAW 703 Michigan Avenue
UID:e.1949.2886
SEQUENCE:3
DTSTAMP:20260424T211148Z
URL:https://members.laportepartnership.com/events/details/rqaw-ribbon-cutting-2886
END:VEVENT

END:VCALENDAR
