BEGIN:VCALENDAR
VERSION:2.0
PRODID:-//ChamberMaster//Event Calendar 2.0//EN
METHOD:PUBLISH
X-PUBLISHED-TTL:P3D
REFRESH-INTERVAL:P3D
CALSCALE:GREGORIAN
BEGIN:VEVENT
DTSTART:20161015T130000Z
DTEND:20161015T140000Z
X-MICROSOFT-CDO-ALLDAYEVENT:FALSE
SUMMARY:Run for Jake 2016
DESCRIPTION:Run for Jake- 5K run and health walk in support of the Play for Jake Foundation on the scenic nine of Legacy Hills Golf Course.\n\n\n\nSaturday\, October 15\, 2016 at 8:00 a.m. Race sponsored by the Kiwanis Club of La Porte\n\n\n\nCourse\n\nTrue Cross Country run on scenic Legacy Hills Golf Course\, 299 W. Johnson Road\, La Porte\, IN. Start & Finish at Legacy Hills pavilion.\n\n\n\nSchedule of Events\n\n6:45 a.m.-7:45 a.m.- Registration and packet pick-up\n\n8:00 a.m.- Race start\n\nPost-Race- Refreshments & awards\n\n\n\nRace Awards\n\nFirst male and first female overall and "Masters" first male and first female\n\nRun: 12 and under\, 13-17\, 18-24\, 25-30\, 31-40\, 41-50\, 51-60\, 61+\n\n\n\nEntry fee\n\nAdult: $26\n\nStudent: $26\n\n\n\nEveryone registered before October 2 will receive an event t-shirt. Registration after October 2 and on the day of the event will receive a shirt while supplies last. Shirt quantity and size availability cannot be guaranteed.
X-ALT-DESC;FMTTYPE=text/html:Run for Jake- 5K run and health walk in support of the Play for Jake Foundation on the scenic nine of Legacy Hills Golf Course.<br />\n<br />\nSaturday\, October 15\, 2016 at 8:00 a.m. Race sponsored by the Kiwanis Club of La Porte<br />\n<br />\nCourse<br />\nTrue Cross Country run on scenic Legacy Hills Golf Course\, 299 W. Johnson Road\, La Porte\, IN. Start &amp\; Finish at Legacy Hills pavilion.<br />\n<br />\nSchedule of Events<br />\n6:45 a.m.-7:45 a.m.- Registration and packet pick-up<br />\n8:00 a.m.- Race start<br />\nPost-Race- Refreshments &amp\; awards<br />\n<br />\nRace Awards<br />\nFirst male and first female overall and &quot\;Masters&quot\; first male and first female<br />\nRun: 12 and under\, 13-17\, 18-24\, 25-30\, 31-40\, 41-50\, 51-60\, 61+<br />\n<br />\nEntry fee<br />\nAdult: $26<br />\nStudent: $26<br />\n<br />\nEveryone registered before October 2 will receive an event t-shirt. Registration after October 2 and on the day of the event will receive a shirt while supplies last. Shirt quantity and size availability cannot be guaranteed.
LOCATION:Legacy Hills Golf Course 299 W. Johnson Road La Porte
UID:e.1949.2635
SEQUENCE:3
DTSTAMP:20260425T203943Z
URL:https://members.laportepartnership.com/events/details/run-for-jake-2016-2635
END:VEVENT

END:VCALENDAR
