BEGIN:VCALENDAR
VERSION:2.0
PRODID:-//ChamberMaster//Event Calendar 2.0//EN
METHOD:PUBLISH
X-PUBLISHED-TTL:P3D
REFRESH-INTERVAL:P3D
CALSCALE:GREGORIAN
BEGIN:VEVENT
DTSTART:20171021T114500Z
DTEND:20171021T140000Z
X-MICROSOFT-CDO-ALLDAYEVENT:FALSE
SUMMARY:Run for Jake- Kiwanis Club of La Porte
DESCRIPTION:This is a run over the scenic Legacy Hills Golf Course.   Walkers and casual runners definitely welcome.   \n\n \n\nThe Play for Jake Foundation was founded in memory of Jake West who passed away at the age of 17 due to an undetected heart condition. The Foundation is determined to create awareness and educate parents and youth about the dangers of undetected heart conditions.  We want to prevent sudden cardiac arrest among our youth by providing screening and protection programs for the middle schools and high schools to ensure children are offered routine heart screenings for undetected heart conditions.  www.playforjake.org\n\n \n\nThe Kiwanis Club of La Porte is part of Kiwanis International\, a global organization of volunteers dedicated to improving the world\, one child and one community at a time.  The Kiwanis Club of La Porte performs many community service projects in La Porte to help serve children\, locally\, nationally and abroad.  The club meets on Thursdays at Noon at the Best Western Conference Center on Pine Lake Avenue in La Porte.
X-ALT-DESC;FMTTYPE=text/html:This is a run over the scenic Legacy Hills Golf Course.&nbsp\;&nbsp\; Walkers and casual runners definitely welcome.&nbsp\;&nbsp\;&nbsp\;<br />\n&nbsp\;<br />\nThe Play for Jake Foundation was founded in memory of Jake West who passed away at the age of 17 due to an undetected heart condition. The Foundation is determined to create awareness and educate parents and youth about the dangers of undetected heart conditions.&nbsp\; We want to prevent sudden cardiac arrest among our youth by providing screening and protection programs for the middle schools and high schools to ensure children are offered routine heart screenings for undetected heart conditions.&nbsp\; <a href="http://www.playforjake.org">www.playforjake.org</a><br />\n&nbsp\;<br />\nThe Kiwanis Club of La Porte is part of Kiwanis International\, a global organization of volunteers dedicated to improving the world\, one child and one community at a time.&nbsp\; The Kiwanis Club of La Porte performs many community service projects in La Porte to help serve children\, locally\, nationally and abroad.&nbsp\; The club meets on Thursdays at Noon at the Best Western Conference Center on Pine Lake Avenue in La Porte.&nbsp\;&nbsp\;
LOCATION:Legacy Hills Golf Course 299 W. Johnson Road
UID:e.1949.2911
SEQUENCE:3
DTSTAMP:20260424T230822Z
URL:https://members.laportepartnership.com/events/details/run-for-jake-kiwanis-club-of-la-porte-2911
END:VEVENT

END:VCALENDAR
