BEGIN:VCALENDAR
VERSION:2.0
PRODID:-//ChamberMaster//Event Calendar 2.0//EN
METHOD:PUBLISH
X-PUBLISHED-TTL:P3D
REFRESH-INTERVAL:P3D
CALSCALE:GREGORIAN
BEGIN:VEVENT
DTSTART:20171216T190000Z
DTEND:20171217T210000Z
X-MICROSOFT-CDO-ALLDAYEVENT:FALSE
SUMMARY:Santa Claus at Kabelin Ace Hardware
DESCRIPTION:Santa is coming to Kabelin Ace Hardware! This Saturday and Sunday at both our La Porte West and Michigan City locations!
X-ALT-DESC;FMTTYPE=text/html:<span style="color: rgb(29\, 33\, 41)\; font-family: Helvetica\, Arial\, sans-serif\; font-size: 14px\;">Santa is coming to Kabelin Ace Hardware! This Saturday and Sunday at both our La Porte West and Michigan City locations!</span>
LOCATION:La Porte West- 512 Andrew Avenue Michigan City- 432 Saint John Road
UID:e.1949.2983
SEQUENCE:3
DTSTAMP:20260424T193358Z
URL:https://members.laportepartnership.com/events/details/santa-claus-at-kabelin-ace-hardware-2983
END:VEVENT

END:VCALENDAR
