BEGIN:VCALENDAR
VERSION:2.0
PRODID:-//ChamberMaster//Event Calendar 2.0//EN
METHOD:PUBLISH
X-PUBLISHED-TTL:P3D
REFRESH-INTERVAL:P3D
CALSCALE:GREGORIAN
BEGIN:VEVENT
DTSTART:20171223T160000Z
DTEND:20171223T190000Z
X-MICROSOFT-CDO-ALLDAYEVENT:FALSE
SUMMARY:Santa in His Chalet at Plaza 618!
DESCRIPTION:Come visit with Santa at Plaza 618! This will be the last time he is in his chalet before Christmas. Santa will be there to visit the children of La Porte from 10:00 a.m.-1:00 p.m.
X-ALT-DESC;FMTTYPE=text/html:Come visit with Santa at Plaza 618! This will be the last time he is in his chalet before Christmas. Santa will be there to visit the children of La Porte from 10:00 a.m.-1:00 p.m.
LOCATION:Plaza 618 618 Lincolnway La Porte
UID:e.1949.2987
SEQUENCE:3
DTSTAMP:20260424T193649Z
URL:https://members.laportepartnership.com/events/details/santa-in-his-chalet-at-plaza-618-2987
END:VEVENT

END:VCALENDAR
