BEGIN:VCALENDAR
VERSION:2.0
PRODID:-//ChamberMaster//Event Calendar 2.0//EN
METHOD:PUBLISH
X-PUBLISHED-TTL:P3D
REFRESH-INTERVAL:P3D
CALSCALE:GREGORIAN
BEGIN:VEVENT
DTSTART:20171202T010000Z
DTEND:20171202T050000Z
X-MICROSOFT-CDO-ALLDAYEVENT:FALSE
SUMMARY:Santa's Ball! presented by La Porte Seamless Charities
DESCRIPTION:Big Comedy LaPorte\, (the same people that put on Big Comedy at the Little Theatre\, Two Enormous Inappropriate Trivias\, and The 80's Prom) invite you to join us at the Civic Auditorium in La Porte\, Friday\, December 1st from 7pm to 11pm Central Time for Santa's Ball! This is a 21+ full cash bar charity event. All proceeds will benefit the La Porte Drug Court\, an amazing program that is hands on battling the opioid problem in La Porte.\n\n\n\nHere's the deal: \n\n\n\nDomino's Pizza in LaPorte is sponsoring food and prizes for the night so make sure you check out their brand new location in LaPorte!!\n\n\n\n-Bring some cash with you\n\n-Get dressed up in your most fantastic ugly holiday sweater\n\n-Take a ride in our horse drawn carriage while sipping on some hot cocoa\n\n-Dance your booty off on a huge dance floor with 100's of party people!\n\n-Get your picture taken with Bad Santa!\n\n-Throw a snowball* inside and see how fast you throw! (fastest of the night wins a prize!)\n\n-Get nominated in one of two categories: best vintage ugly sweater\, and best non-vintage (aka store bought) ugly sweater\n\n-Pull a mystery bottle of wine that could be worth a LOT or a little!\n\n-Bid on Silent Night Holy Auction items (our silent auction corner)\n\n-Take a chance on unwrapping one of our 100 Christmas Tree Presents...is it coal...or is it something FANTASTIC!\n\n\n\n\n\nThis is going to be a HUGE event\, so spread the word and secure your tickets early! Why? Because! The two Inappropriate Trivia nights actually sold out at 660 and 800 people\, and this event has less capacity due to the dance floor!
X-ALT-DESC;FMTTYPE=text/html:<span style="color: rgb(75\, 79\, 86)\; font-family: Helvetica\, Arial\, sans-serif\; font-size: 14px\;">Big Comedy LaPorte\, (the same people that put on Big Comedy at the Little Theatre\, Two Enormous Inappropriate Trivias\, and The 80&#39\;s Prom) invite you to join us at the Civic Auditorium in La Porte\, Friday\, December 1st from 7pm to 11pm Central Time for Santa&#39\;s Ball! This is a 21+ full cash bar charity event. All proceeds will benefit the La Porte Drug Court\, an amazing program that is hands on battling the opioid problem in La Porte.</span><br style="color: rgb(75\, 79\, 86)\; font-family: Helvetica\, Arial\, sans-serif\; font-size: 14px\;" />\n<br style="color: rgb(75\, 79\, 86)\; font-family: Helvetica\, Arial\, sans-serif\; font-size: 14px\;" />\n<span style="color: rgb(75\, 79\, 86)\; font-family: Helvetica\, Arial\, sans-serif\; font-size: 14px\;">Here&#39\;s the deal:&nbsp\;</span><br style="color: rgb(75\, 79\, 86)\; font-family: Helvetica\, Arial\, sans-serif\; font-size: 14px\;" />\n<br style="color: rgb(75\, 79\, 86)\; font-family: Helvetica\, Arial\, sans-serif\; font-size: 14px\;" />\n<span style="color: rgb(75\, 79\, 86)\; font-family: Helvetica\, Arial\, sans-serif\; font-size: 14px\;">Domino&#39\;s Pizza in LaPorte is sponsoring food and prizes for the night so make sure you check out their brand new location in LaPorte!!</span><br style="color: rgb(75\, 79\, 86)\; font-family: Helvetica\, Arial\, sans-serif\; font-size: 14px\;" />\n<br style="color: rgb(75\, 79\, 86)\; font-family: Helvetica\, Arial\, sans-serif\; font-size: 14px\;" />\n<span style="color: rgb(75\, 79\, 86)\; font-family: Helvetica\, Arial\, sans-serif\; font-size: 14px\;">-Bring some cash with you</span><br style="color: rgb(75\, 79\, 86)\; font-family: Helvetica\, Arial\, sans-serif\; font-size: 14px\;" />\n<span style="color: rgb(75\, 79\, 86)\; font-family: Helvetica\, Arial\, sans-serif\; font-size: 14px\;">-Get dressed up in your most fantastic ugly holiday sweater</span><br style="color: rgb(75\, 79\, 86)\; font-family: Helvetica\, Arial\, sans-serif\; font-size: 14px\;" />\n<span style="color: rgb(75\, 79\, 86)\; font-family: Helvetica\, Arial\, sans-serif\; font-size: 14px\;">-Take a ride in our horse drawn carriage&nbsp\;</span><span class="text_exposed_show" style="display: inline\; font-family: Helvetica\, Arial\, sans-serif\; color: rgb(75\, 79\, 86)\; font-size: 14px\;">while sipping on some hot cocoa<br />\n-Dance your booty off on a huge dance floor with 100&#39\;s of party people!<br />\n-Get your picture taken with Bad Santa!<br />\n-Throw a snowball* inside and see how fast you throw! (fastest of the night wins a prize!)<br />\n-Get nominated in one of two categories: best vintage ugly sweater\, and best non-vintage (aka store bought) ugly sweater<br />\n-Pull a mystery bottle of wine that could be worth a LOT or a little!<br />\n-Bid on Silent Night Holy Auction items (our silent auction corner)<br />\n-Take a chance on unwrapping one of our 100 Christmas Tree Presents...is it coal...or is it something FANTASTIC!<br />\n<br />\n<br />\nThis is going to be a HUGE event\, so spread the word and secure your tickets early! Why? Because! The two Inappropriate Trivia nights actually sold out at 660 and 800 people\, and this event has less capacity due to the dance floor!</span>
LOCATION:La Porte Civic Auditorium 1001 Ridge Street La Porte
UID:e.1949.2933
SEQUENCE:3
DTSTAMP:20260424T193542Z
URL:https://members.laportepartnership.com/events/details/santa-s-ball-presented-by-la-porte-seamless-charities-2933
END:VEVENT

END:VCALENDAR
