BEGIN:VCALENDAR
VERSION:2.0
PRODID:-//ChamberMaster//Event Calendar 2.0//EN
METHOD:PUBLISH
X-PUBLISHED-TTL:P3D
REFRESH-INTERVAL:P3D
CALSCALE:GREGORIAN
BEGIN:VEVENT
DTSTART:20171210T150000Z
DTEND:20171210T230000Z
X-MICROSOFT-CDO-ALLDAYEVENT:FALSE
SUMMARY:Santa's Candy Cane Express at Hesston Steam Museum
DESCRIPTION:It's a child's world of wonder where the magic of Christmas\, trains\, and Santa Claus evokes a warm feeling of nostalgia when your family visits the Hesston Steam Museum the first two weekends in December. \n\n\n\nGrab some hot cocoa and ride the Candy Cane Express in open or enclosed passenger coaches for a 20 minute scenic ride through the woods and farmlands of the Hesston Steam Museum.\n\n\n\nSanta waits for your Christmas wish lists in a 1900s era railroad caboose and you are invited to take photos with him at no charge. The caboose's wood stove warms the winter air as your family prepares to visit with him.\n\n\n\nThen step into The Depot Store\, where you can find lots of great stocking stuffers and gifts for your little engineer - all at 15% off the normal price. \n\n\n\nHungry? Doc's Soda Fountain is an authentic 1930 soda bar where "soda jerks" dish up ice cream treats for your family. Doc's adds to the vintage experience with festive hand dipped milk shakes\, full lunches\, and even breakfast from 9 - 11!\n\n\n\nFree train ride??? Give & Receive  Give a new unwrapped toy to US Marine Corps Toys for Tots and receive a free train ticket (suggested value of toy is $6+). Volunteers of the Hesston Steam Museum are very proud to support this worthy cause. Just bring the toy for donation to our ticket booth and receive your train ticket.\n\n\n\nwww.hesston.org\n\nSanta Arrives at Noon and is in the caboose all day.\n\nTrains run Noon - 5:00\n\nFood: Breakfast 9-11:00 Lunch from noon-4:00 Ice Cream\, Hot Chocolate and drinks all day.
X-ALT-DESC;FMTTYPE=text/html:<span style="color: rgb(75\, 79\, 86)\; font-family: Helvetica\, Arial\, sans-serif\; font-size: 14px\;">It&rsquo\;s a child&rsquo\;s world of wonder where the magic of Christmas\, trains\, and Santa Claus evokes a warm feeling of nostalgia when your family visits the Hesston Steam Museum the first two weekends in December.&nbsp\;</span><br style="color: rgb(75\, 79\, 86)\; font-family: Helvetica\, Arial\, sans-serif\; font-size: 14px\;" />\n<br style="color: rgb(75\, 79\, 86)\; font-family: Helvetica\, Arial\, sans-serif\; font-size: 14px\;" />\n<span style="color: rgb(75\, 79\, 86)\; font-family: Helvetica\, Arial\, sans-serif\; font-size: 14px\;">Grab some hot cocoa and ride the Candy Cane Express in open or enclosed passenger coaches for a 20 minute scenic ride through the woods and farmlands of the Hesston Steam Museum.</span><br style="color: rgb(75\, 79\, 86)\; font-family: Helvetica\, Arial\, sans-serif\; font-size: 14px\;" />\n<br style="color: rgb(75\, 79\, 86)\; font-family: Helvetica\, Arial\, sans-serif\; font-size: 14px\;" />\n<span style="color: rgb(75\, 79\, 86)\; font-family: Helvetica\, Arial\, sans-serif\; font-size: 14px\;">Santa waits for your Christmas wish lists in a 1900s era railroad caboose and you are invited to take photos with him at no charge. The caboose&rsquo\;s wood stove warms the winter air as your family prepares to visit with him.</span><br style="color: rgb(75\, 79\, 86)\; font-family: Helvetica\, Arial\, sans-serif\; font-size: 14px\;" />\n<br style="color: rgb(75\, 79\, 86)\; font-family: Helvetica\, Arial\, sans-serif\; font-size: 14px\;" />\n<span style="color: rgb(75\, 79\, 86)\; font-family: Helvetica\, Arial\, sans-serif\; font-size: 14px\;">Then step into The Depot Store\, where you can find lots of great stocking stuffers and gifts for your little en</span><span class="text_exposed_show" style="display: inline\; font-family: Helvetica\, Arial\, sans-serif\; color: rgb(75\, 79\, 86)\; font-size: 14px\;">gineer - all at 15% off the normal price.&nbsp\;<br />\n<br />\nHungry? Doc&rsquo\;s Soda Fountain is an authentic 1930 soda bar where &ldquo\;soda jerks&rdquo\; dish up ice cream treats for your family. Doc&rsquo\;s adds to the vintage experience with festive hand dipped milk shakes\, full lunches\, and even breakfast from 9 - 11!<br />\n<br />\nFree train ride??? Give &amp\; Receive&mdash\; Give a new unwrapped toy to US Marine Corps Toys for Tots and receive a free train ticket (suggested value of toy is $6+). Volunteers of the Hesston Steam Museum are very proud to support this worthy cause. Just bring the toy for donation to our ticket booth and receive your train ticket.<br />\n<br />\n<a data-lynx-mode="async" href="https://l.facebook.com/l.php?u=http%3A%2F%2Fwww.hesston.org%2F&amp\;h=ATN1YgIYhLlpfG8KgFwmzxgKCy-nLOsAnuyjJ713Wr1hqAklrx5ImEz4wutRrvmo7CTl-vmTE_QGnac8fFkJ6FNy8XjTXlIsA16gywFitj4LPWPvKP6B2sjLdsLqwRvbhblsTkT_x4BRVrKir6sOlKz381kqp70bNAAgotSnnkV0bw" rel="nofollow noopener" style="color: rgb(54\, 88\, 153)\; cursor: pointer\; text-decoration-line: none\; font-family: inherit\;" target="_blank">www.hesston.org</a><br />\nSanta Arrives at Noon and is in the caboose all day.<br />\nTrains run Noon - 5:00<br />\nFood: Breakfast 9-11:00 Lunch from noon-4:00 Ice Cream\, Hot Chocolate and drinks all day.</span>
LOCATION:Hesston Steam Musem 1201 E. 1000 N. Hesston
UID:e.1949.2972
SEQUENCE:3
DTSTAMP:20260424T213444Z
URL:https://members.laportepartnership.com/events/details/santa-s-candy-cane-express-at-hesston-steam-museum-12-10-2017-2972
END:VEVENT

END:VCALENDAR
