BEGIN:VCALENDAR
VERSION:2.0
PRODID:-//ChamberMaster//Event Calendar 2.0//EN
METHOD:PUBLISH
X-PUBLISHED-TTL:P3D
REFRESH-INTERVAL:P3D
CALSCALE:GREGORIAN
BEGIN:VEVENT
DTSTART:20180725T140000Z
DTEND:20180725T150000Z
X-MICROSOFT-CDO-ALLDAYEVENT:FALSE
SUMMARY:SCORE Workshop: Managing Conflict -- is it even worth it?
DESCRIPTION:We want you to be able to answer "YES" -- that managing conflict constructively is worth it!  Please join us as Brian Donnelly from Momentum Solutions LLC teaches you how to use conflict as a productive force.\n\n	9:00am Presentation\n	10:00am Q&A and Networking\n	There is no cost for the workshop.  \n	Coffee will be served.  \n	Attendees receive a copy of the slide presentation.  \n\nLimited seating is available and registrations are required.  Just click on the link below to register.
X-ALT-DESC;FMTTYPE=text/html:<span style="color:#333333\;"><span style="font-family:arial\,sans-serif\;"><span style="font-size:10.0pt\;">We want you to be able to answer &quot\;YES&quot\; -- that managing conflict constructively is worth it!&nbsp\;&nbsp\;Please join us as Brian Donnelly from Momentum Solutions LLC&nbsp\;teaches you how to&nbsp\;use conflict as a productive force.</span></span></span>\n<ul>\n	<li style="color:#333333\;background:white\;"><span style="font-family:arial\,sans-serif\;"><span style="font-size:10.0pt\;">9:00am Presentation</span></span></li>\n	<li style="color:#333333\;background:white\;"><span style="font-family:arial\,sans-serif\;"><span style="font-size:10.0pt\;">10:00am Q&amp\;A and Networking</span></span></li>\n	<li style="color:#333333\;background:white\;"><span style="font-family:arial\,sans-serif\;"><span style="font-size:10.0pt\;">There is no cost for the workshop. &nbsp\;</span></span></li>\n	<li style="color:#333333\;background:white\;"><span style="font-family:arial\,sans-serif\;"><span style="font-size:10.0pt\;">Coffee will be served.&nbsp\;&nbsp\;</span></span></li>\n	<li style="color:#333333\;background:white\;"><span style="font-family:arial\,sans-serif\;"><span style="font-size:10.0pt\;">Attendees receive a copy of the slide presentation.&nbsp\;&nbsp\;</span></span></li>\n</ul>\n<span style="color:#333333\;"><span style="font-family:arial\,sans-serif\;"><span style="font-size:10.0pt\;">Limited seating is available and registrations are required.&nbsp\; Just click on the link below to register.&nbsp\;</span></span></span>
LOCATION:Greater Valparaiso Chamber of Commerce 162 W Lincolnway Valparaiso
UID:e.1949.4212
SEQUENCE:3
DTSTAMP:20260424T070748Z
URL:https://members.laportepartnership.com/events/details/score-workshop-managing-conflict-is-it-even-worth-it-4212
END:VEVENT

END:VCALENDAR
