BEGIN:VCALENDAR
VERSION:2.0
PRODID:-//ChamberMaster//Event Calendar 2.0//EN
METHOD:PUBLISH
X-PUBLISHED-TTL:P3D
REFRESH-INTERVAL:P3D
CALSCALE:GREGORIAN
BEGIN:VEVENT
DTSTART:20180520T180000Z
DTEND:20180520T210000Z
X-MICROSOFT-CDO-ALLDAYEVENT:FALSE
SUMMARY:Seeds of Impact- United Way Annual Gala
DESCRIPTION:SUNDAY\, MAY 20\, 2018\n\n1:00 PM\n\nCHINESE BRIDGE GARDEN\, FRIENDSHIP BOTANIC GARDENS\n\n2055 E. U.S. Highway 12\, Michigan City\, IN 46360\n\nATTIRE\n\nGarden Party Chic\n\nTICKETS\n\n$75 per person\n\nPlant the seeds of impact that will blossom into tomorrow's bounty of hope\, community\, and prosperity at United Way of LaPorte County's new annual gala Seeds of Impact.\n\nThis new annual gala will feature a concert performance by internationally renowned jazz bassist Dwayne Dolphin\, a silent auction with several tantalizing items for bid\, and a delightful selection of complimentary spring cocktails\, wine and craft brews accompanied by a lavish selection of sumptuous hors d'oeuvres and desserts.\n\nThis spring\, sow your legacy with seeds of the collective community impact work of the United Way in LaPorte County.
X-ALT-DESC;FMTTYPE=text/html:<p><strong style="font-size: 12pt\; color: #539ed0\;">SUNDAY\, MAY 20\, 2018</strong></p>\n\n<p><strong>1:00 PM</strong></p>\n\n<p><strong style="font-size: 12pt\; color: #539ed0\;">CHINESE BRIDGE GARDEN\, FRIENDSHIP BOTANIC GARDENS</strong></p>\n\n<p><strong>2055 E. U.S. Highway 12\, Michigan City\, IN 46360</strong></p>\n\n<p><strong style="font-size: 12pt\; color: #539ed0\;">ATTIRE</strong></p>\n\n<p><strong>Garden Party Chic</strong></p>\n\n<p><strong style="font-size: 12pt\; color: #539ed0\;">TICKETS</strong></p>\n\n<p><strong>$75 per person</strong></p>\n\n<p>Plant the seeds of impact that will blossom into tomorrow&rsquo\;s bounty of hope\, community\, and prosperity at United Way of LaPorte County&rsquo\;s new annual gala <em>Seeds of Impact</em>.</p>\n\n<p>This new annual gala will feature a concert performance by internationally renowned jazz bassist Dwayne Dolphin\, a silent auction with several tantalizing items for bid\, and a delightful selection of complimentary spring cocktails\, wine and craft brews accompanied by a lavish selection of sumptuous hors d&#39\;oeuvres and desserts.</p>\n\n<p>This spring\, sow your legacy with seeds of the collective community impact work of the United Way in LaPorte County.</p>\n
LOCATION:Friendship Botanic Gardens 2055 E. U.S. Highway 12\, Michigan City\, IN
UID:e.1949.4119
SEQUENCE:3
DTSTAMP:20260424T103828Z
URL:https://members.laportepartnership.com/events/details/seeds-of-impact-united-way-annual-gala-4119
END:VEVENT

END:VCALENDAR
