BEGIN:VCALENDAR
VERSION:2.0
PRODID:-//ChamberMaster//Event Calendar 2.0//EN
METHOD:PUBLISH
X-PUBLISHED-TTL:P3D
REFRESH-INTERVAL:P3D
CALSCALE:GREGORIAN
BEGIN:VEVENT
DTSTART:20160629T123000Z
DTEND:20160629T150000Z
X-MICROSOFT-CDO-ALLDAYEVENT:FALSE
SUMMARY:Seminar and Workshop: FLSA Changes to the Overtime Rule Regulation
DESCRIPTION:Major changes are coming. An estimated 4 million+ workers will be effected in the first year alone. Are you prepared? Do you have a plan of action for your organization? The Northern Indiana Human Resource Management Association is bringing a FREE Seminar and Workshop to it's members ($5 for non members). Attorney Sean J. Quinn of Ladue\, Curan & Kuehn will present the details of the new regulation as well as practical guidelines to formulate your plans of action. Any HR professional or business leader is invited to join us. On May 18\, 2016\, President Obama and Secretary Perez announced the publication of the Department of Labor's final rule updating the overtime regulations\, which will automatically extend overtime pay protections to over 4 million workers within the first year of implementation. Key Provisions of the Final Rule The Final Rule focuses primarily on updating the salary and compensation levels needed for Executive\, Administrative and Professional workers to be exempt. Specifically\, the Final Rule: 1. Sets the standard salary level at $913 per week\; $47\,476 annually for a full-year worker\; 2. Sets the total annual compensation requirement for highly compensated employees (HCE) subject to a minimal duties test to the annual equivalent of $134\,004\; and 3. Establishes a mechanism for automatically updating the salary and compensation levels every three years. The effective date of the final rule is December 1\, 2016. --------------------------- Join us to learn what you need to do to create a plan\, or to ensure that your existing plan will comply with the new regulation.
X-ALT-DESC;FMTTYPE=text/html:Major changes are coming. An estimated 4 million+ workers will be effected in the first year alone. Are you prepared? Do you have a plan of action for your organization? The Northern Indiana Human Resource Management Association is bringing a FREE Seminar and Workshop to it&#39\;s members ($5 for non members). Attorney Sean J. Quinn of Ladue\, Curan &amp\; Kuehn will present the details of the new regulation as well as practical guidelines to formulate your plans of action. Any HR professional or business leader is invited to join us. On May 18\, 2016\, President Obama and Secretary Perez announced the publication of the Department of Labor&rsquo\;s final rule updating the overtime regulations\, which will automatically extend overtime pay protections to over 4 million workers within the first year of implementation. Key Provisions of the Final Rule The Final Rule focuses primarily on updating the salary and compensation levels needed for Executive\, Administrative and Professional workers to be exempt. Specifically\, the Final Rule: 1. Sets the standard salary level at $913 per week\; $47\,476 annually for a full-year worker\; 2. Sets the total annual compensation requirement for highly compensated employees (HCE) subject to a minimal duties test to the annual equivalent of $134\,004\; and 3. Establishes a mechanism for automatically updating the salary and compensation levels every three years. The effective date of the final rule is December 1\, 2016. --------------------------- Join us to learn what you need to do to create a plan\, or to ensure that your existing plan will comply with the new regulation.
LOCATION:Ivy Tech Community College 3714 Franklin Street\, Room 238 Michigan City\, IN 46360
UID:e.1949.2586
SEQUENCE:3
DTSTAMP:20260426T034029Z
URL:https://members.laportepartnership.com/events/details/seminar-and-workshop-flsa-changes-to-the-overtime-rule-regulation-06-29-2016-2586
END:VEVENT

END:VCALENDAR
