BEGIN:VCALENDAR
VERSION:2.0
PRODID:-//ChamberMaster//Event Calendar 2.0//EN
METHOD:PUBLISH
X-PUBLISHED-TTL:P3D
REFRESH-INTERVAL:P3D
CALSCALE:GREGORIAN
BEGIN:VEVENT
DTSTART:20171216T150000Z
DTEND:20171216T190000Z
X-MICROSOFT-CDO-ALLDAYEVENT:FALSE
SUMMARY:Settlers Place Assisted Living Open House
DESCRIPTION:Eat\, Drink & be merry with us at\nSettlers Place Assisted Living Open House\n \n\nDecember 16\n\n9:00 a.m. to 1:00 p.m. CST\n\n \n\nLight Refreshments \n\nMeet Our Staff\n\nLearn About Veteran Benefits\n\nTour our Community & learn how we can assist you with senior living options\n\n \n\nRSVP's appreciated: Jutka 574-210-3690\,   jkis@enlivant.com
X-ALT-DESC;FMTTYPE=text/html:<span style="font-size:16.0pt\;">Eat\, Drink &amp\; be merry with us at</span>\n<h1>Settlers Place Assisted Living Open House</h1>\n&nbsp\;<br />\n<strong>December 16</strong><br />\n<strong>9:00 a.m. to 1:00 p.m. CST</strong><br />\n&nbsp\;<br />\n<span style="font-size:16.0pt\;">Light Refreshments </span><br />\n<span style="font-size:16.0pt\;">Meet Our Staff</span><br />\n<span style="font-size:16.0pt\;">Learn About Veteran Benefits</span><br />\n<span style="font-size:16.0pt\;">Tour our Community &amp\; learn how we can assist you with senior living options</span><br />\n&nbsp\;<br />\n<strong><span style="color:#C0504D\;"><span style="font-family:arial\,sans-serif\;"><span style="font-size:16.0pt\;">RSVP&rsquo\;s appreciated: Jutka 574-210-3690\, &nbsp\;&nbsp\;jkis@enlivant.com</span></span></span></strong>
LOCATION:Settlers Place 3304 Monroe St. La Porte
UID:e.1949.2982
SEQUENCE:3
DTSTAMP:20260424T213324Z
URL:https://members.laportepartnership.com/events/details/settlers-place-assisted-living-open-house-2982
END:VEVENT

END:VCALENDAR
