BEGIN:VCALENDAR
VERSION:2.0
PRODID:-//ChamberMaster//Event Calendar 2.0//EN
METHOD:PUBLISH
X-PUBLISHED-TTL:P3D
REFRESH-INTERVAL:P3D
CALSCALE:GREGORIAN
BEGIN:VEVENT
DTSTART:20180414T140000Z
DTEND:20180414T210000Z
X-MICROSOFT-CDO-ALLDAYEVENT:FALSE
SUMMARY:Seymour Sales and Service\, LLC Re-Grand Opening Open House & Ribbon Cutting
DESCRIPTION:Join Seymour Sales and Service\, LLC for a Re-Grand Opening Open House and Ribbon Cutting on Saturday\, April 14 from 9:00 a.m.-4:00 p.m. The ribbon cutting will take place at 10:00 a.m. Seymour Sales and Service is located at 101 S. Forrester Road in La Porte. The ribbon cutting will be administered by the Greater La Porte Chamber of Commerce.\n\nThe business will be offering sale prices and offer have free test drives\, free food & drink\, a free drawing\, and free door prizes. WIMS will also be broadcasting live from the event. As a way of saying thank you to the American Heroes\, Seymour Sales and Service & Country Clipper\, are running special HERO Program  offering up to $300 (off towards the purchase of a new Country Clipper lawn mower) to active members and veterans of all branches of the military and active and retired members of law enforcement\, fire\, paramedic\, or EMT services.\n\nFor more information about Seymour Sales and Service\, visit their Facebook page or call 219.362.5625.
X-ALT-DESC;FMTTYPE=text/html:<span style="font-family:georgia\,serif\;"><span style="font-size:12.0pt\;">Join Seymour Sales and Service\, LLC for a Re-Grand Opening Open House and Ribbon Cutting on Saturday\, April 14 from 9:00 a.m.-4:00 p.m. The ribbon cutting will take place at 10:00 a.m. Seymour Sales and Service is located at 101 S. Forrester Road in La Porte. The ribbon cutting will be administered by the Greater La Porte Chamber of Commerce.</span></span><br />\n<span style="font-family:georgia\,serif\;"><span style="font-size:12.0pt\;">The business will be offering sale prices and offer have free test drives\, free food &amp\; drink\, a free drawing\, and free door prizes. WIMS will also be broadcasting live from the event. As a way of saying thank you to the American Heroes\, Seymour Sales and Service &amp\; Country Clipper\, are running special HERO Program &nbsp\;offering up to $300 (off towards the purchase of a new Country Clipper lawn mower) to active members and veterans of all branches of the military and active and retired members of law enforcement\, fire\, paramedic\, or EMT services.</span></span><br />\n<span style="font-family:georgia\,serif\;"><span style="font-size:12.0pt\;">For more information about Seymour Sales and Service\, visit their Facebook page or call 219.362.5625.&nbsp\;</span></span>
LOCATION:Seymour Sales and Service 101 S. Forrester Road La Porte
UID:e.1949.3088
SEQUENCE:3
DTSTAMP:20260424T120057Z
URL:https://members.laportepartnership.com/events/details/seymour-sales-and-service-llc-re-grand-opening-open-house-ribbon-cutting-3088
END:VEVENT

END:VCALENDAR
