BEGIN:VCALENDAR
VERSION:2.0
PRODID:-//ChamberMaster//Event Calendar 2.0//EN
METHOD:PUBLISH
X-PUBLISHED-TTL:P3D
REFRESH-INTERVAL:P3D
CALSCALE:GREGORIAN
BEGIN:VEVENT
DTSTART:20180413T163000Z
DTEND:20180413T180000Z
X-MICROSOFT-CDO-ALLDAYEVENT:FALSE
SUMMARY:Shirley Heinze Partnership Luncheon
DESCRIPTION:Shirley Heinze Land Trust will host a Partnership Luncheon for its conservation partners and the general public on Friday\, April 13th\, at the Century Center\, located at 120 South St. Joseph Street in downtown South Bend. The keynote speaker will be James Turnwald\, Executive Director of the Michiana Area Council of Governments (MACOG)\, the regional planning agency for St. Joseph\, Marshall\, Kosciusko and Elkhart Counties. Turnwald will provide an update on MACOG's priorities and new initiatives\, including regional mobility as a model for more comprehensive planning in the future\, and MACOG's role with conservation entities like Shirley Heinze Land Trust.\n\nHeinze Trust Executive Director Kristopher Krouse will speak about the mission and work of the organization and its plans for Lydick Bog\, a 176-acre property containing one of the last remaining bog habitats in Indiana.  "The opportunity to protect Lydick Bog has fostered many new relationships and partnerships in St. Joseph County\," Krouse says.  "We are excited to be advancing the cause of land conservation in such a collaborative way."\n\nKrouse will also describe plans to enhance public accessibility at Lydick Bog.  A system of hiking trails and interpretive signage will be developed\, and a parking lot\, public restrooms\, and equipment storage structures will follow. \n\nRegistration for luncheon guests begins at 11:30 a.m.\, and the program starts at noon. Tickets and table sponsorships may be purchased by going to www.heinzetrust.org\, or by contacting Bonnie Hawksworth at 219-242-8558 or bhawksworth@heinzetrust.org. RSVPs are requested no later than Monday\, April 9.\n\nSince 1981\, Shirley Heinze Land Trust has protected\, restored and maintained northwestern Indiana's rich and significant natural communities\, including tallgrass prairie\, high dune\, oak savanna\, boreal flatwoods\, dune-and-swale\, woodlands\, marshes\, swamps\, ponds\, fens\, bogs\, and riparian habitat. More than 2\,400 acres in Lake\, Porter\, LaPorte\, and St. Joseph Counties have been preserved for the public's benefit. Shirley Heinze nature preserves feature significant scenic and ecological value\, and most are open to the public for hiking and enjoying nature. Five of its properties have been dedicated to the people of Indiana as state nature preserves. The organization also works to educate people of all ages to appreciate the importance of land conservation\, and to experience the natural wonders of this unique region. Its work is accomplished through a partnership of volunteers\, donors\, and professionals.\n\nFor more information on the work and programs of Shirley Heinze Land Trust\, call 219-242-8558\, or visit www.heinzetrust.org and www.facebook.com/heinzetrust.
X-ALT-DESC;FMTTYPE=text/html:<span style="font-family:calibri\,sans-serif\;">Shirley Heinze Land Trust will host a Partnership Luncheon for its conservation partners and the general public on Friday\, April 13th\, at the Century Center\, located at 120 South St. Joseph Street in downtown South Bend. The keynote speaker will be James Turnwald\, Executive Director of the Michiana Area Council of Governments (MACOG)\, the regional planning agency for St. Joseph\, Marshall\, Kosciusko and Elkhart Counties. Turnwald will provide an update on MACOG&rsquo\;s priorities and new initiatives\, including regional mobility as a model for more comprehensive planning in the future\, and MACOG&rsquo\;s role with conservation entities like Shirley Heinze Land Trust.</span><br />\n<span style="font-family:calibri\,sans-serif\;">Heinze Trust Executive Director Kristopher Krouse will speak about the mission and work of the organization and its plans for Lydick Bog\, a 176-acre property containing one of the last remaining bog habitats in Indiana.&nbsp\; &ldquo\;The opportunity to protect Lydick Bog has fostered many new relationships and partnerships in St. Joseph County\,&rdquo\; Krouse says.&nbsp\; &ldquo\;We are excited to be advancing the cause of land conservation in such a collaborative way.&rdquo\;</span><br />\n<span style="font-family:calibri\,sans-serif\;">Krouse will also describe plans to enhance public accessibility at Lydick Bog.&nbsp\; A system of hiking trails and interpretive signage will be developed\, and a parking lot\, public restrooms\, and equipment storage structures will follow. </span><br />\n<span style="font-family:calibri\,sans-serif\;">Registration for luncheon guests begins at 11:30 a.m.\, and the program starts at noon. Tickets and table sponsorships may be purchased by going to www.heinzetrust.org\, or by contacting Bonnie Hawksworth at 219-242-8558 or </span><a href="mailto:bhawksworth@heinzetrust.org"><span style="font-family:calibri\,sans-serif\;">bhawksworth@heinzetrust.org</span></a><span style="font-family:calibri\,sans-serif\;">. RSVPs are requested no later than Monday\, April 9.</span><br />\n<span style="font-family:calibri\,sans-serif\;">Since 1981\, Shirley Heinze Land Trust has protected\, restored and maintained northwestern Indiana&rsquo\;s rich and significant natural communities\, including tallgrass prairie\, high dune\, oak savanna\, boreal flatwoods\, dune-and-swale\, woodlands\, marshes\, swamps\, ponds\, fens\, bogs\, and riparian habitat. More than 2\,400 acres in Lake\, Porter\, LaPorte\, and St. Joseph Counties have been preserved for the public&rsquo\;s benefit. Shirley Heinze nature preserves feature significant scenic and ecological value\, and most are open to the public for hiking and enjoying nature. Five of its properties have been dedicated to the people of Indiana as state nature preserves. The organization also works to educate people of all ages to appreciate the importance of land conservation\, and to experience the natural wonders of this unique region. Its work is accomplished through a partnership of volunteers\, donors\, and professionals.</span><br />\n<span style="color:#2A2A2A\;"><span style="font-family:calibri\,sans-serif\;">For more information on the work and programs of Shirley Heinze Land Trust\, call 219-242-8558\, or visit </span></span><a href="http://www.heinzetrust.org/"><span style="font-family:calibri\,sans-serif\;">www.heinzetrust.org</span></a><span style="color:#2A2A2A\;"><span style="font-family:calibri\,sans-serif\;"> and </span></span><a href="https://www.facebook.com/heinzetrust"><span style="font-family:calibri\,sans-serif\;">www.facebook.com/heinzetrust</span></a><span style="color:#2A2A2A\;"><span style="font-family:calibri\,sans-serif\;">. </span></span>
LOCATION:The Century Center 120 S. St. Joseph St. South Bend
UID:e.1949.4097
SEQUENCE:3
DTSTAMP:20260424T134149Z
URL:https://members.laportepartnership.com/events/details/shirley-heinze-partnership-luncheon-4097
END:VEVENT

END:VCALENDAR
