BEGIN:VCALENDAR
VERSION:2.0
PRODID:-//ChamberMaster//Event Calendar 2.0//EN
METHOD:PUBLISH
X-PUBLISHED-TTL:P3D
REFRESH-INTERVAL:P3D
CALSCALE:GREGORIAN
BEGIN:VEVENT
DTSTART:20171201T220000Z
DTEND:20171201T223000Z
X-MICROSOFT-CDO-ALLDAYEVENT:FALSE
SUMMARY:Sid's Custom Lasering- Open House & Ribbon Cutting
DESCRIPTION:Sid's Custom Lasering\, located at 9494 N. 900 E. in New Carlisle\, is holding a grand opening and open house on December 1 and 2 from 8:00 a.m.-4:30 p.m. To celebrate\, the business will also perform a ribbon cutting administered by the Greater La Porte Chamber of Commerce on December 1 at 4:00 p.m.\n\n\n\nSid's Custom Lasering offers a variety of gifts and promotional items like wine glasses\, tumblers\, cutting boards\, welcome signs\, ceramic tiles\, and much more! With the holidays coming up\, be sure to check out their glass ornaments as well. Contact the business to see what kinds of products could fit your needs.  They  "Create memories that last a lifetime."\n\n\n\nTo learn more about the Sid's Custom Lasering\, go to their Facebook page or call 574.229.0107. For more information about the Greater La Porte Chamber of Commerce\, visit www.lpchamber.com\, like their Facebook page\, or call 219.362.3178.
X-ALT-DESC;FMTTYPE=text/html:<span style="font-family:georgia\,serif\;"><span style="font-size:12.0pt\;">Sid&rsquo\;s Custom Lasering\, located at 9494 N. 900 E. in New Carlisle\, is holding a grand opening and open house on December 1 and 2 from 8:00 a.m.-4:30 p.m. To celebrate\, the business will also perform a ribbon cutting administered by the Greater La Porte Chamber of Commerce on December 1 at 4:00 p.m.</span></span><br />\n<br />\n<span style="font-family:georgia\,serif\;"><span style="font-size:12.0pt\;">Sid&rsquo\;s Custom Lasering offers a variety of gifts and promotional items like wine glasses\, tumblers\, cutting boards\, welcome signs\, ceramic tiles\, and much more! With the holidays coming up\, be sure to check out their glass ornaments as well. Contact the business to see what kinds of products could fit your needs.&nbsp\; They&nbsp\; &ldquo\;Create memories that last a lifetime.&rdquo\;</span></span><br />\n<br />\n<span style="font-family:georgia\,serif\;"><span style="font-size:12.0pt\;">To learn more about the Sid&rsquo\;s Custom Lasering\, go to their Facebook page or call 574.229.0107. For more information about the Greater La Porte Chamber of Commerce\, visit www.lpchamber.com\, like their Facebook page\, or call 219.362.3178.</span></span>
LOCATION:Sid's Custom Lasering 9494 N. 900 E. New Carlisle
UID:e.1949.2944
SEQUENCE:3
DTSTAMP:20260424T193121Z
URL:https://members.laportepartnership.com/events/details/sid-s-custom-lasering-open-house-ribbon-cutting-2944
END:VEVENT

END:VCALENDAR
