BEGIN:VCALENDAR
VERSION:2.0
PRODID:-//ChamberMaster//Event Calendar 2.0//EN
METHOD:PUBLISH
X-PUBLISHED-TTL:P3D
REFRESH-INTERVAL:P3D
CALSCALE:GREGORIAN
BEGIN:VEVENT
DTSTART:20180302T000000Z
DTEND:20180302T020000Z
X-MICROSOFT-CDO-ALLDAYEVENT:FALSE
SUMMARY:Sip and Paint at Settlers Place
DESCRIPTION:Sip and Paint\n\nJoin us for a relaxing evening amonst friends while painting and sipping wine. Cost is $35 and includes a 16"x20" canvas\, painting supplies\, and refreshments.\n\n\n\nSeating is limited! To reserve your spot\, please send payment to:\n\nRhonda Graves\, P.O. Box 434\, Rolling Prairie\, IN 46371.\n\n\n\nWhen: March 1st\, 2018\, 6:00 p.m. CST\n\nWhere: Settlers Place\, 3304 Monroe Street\, La Porte\, IN\n\n\n\nIf you have any questions\, please contact Rhonda Graves at 219.575.2317.
X-ALT-DESC;FMTTYPE=text/html:Sip and Paint<br />\nJoin us for a relaxing evening amonst friends while painting and sipping wine. Cost is $35 and includes a 16&quot\;x20&quot\; canvas\, painting supplies\, and refreshments.<br />\n<br />\nSeating is limited! To reserve your spot\, please send payment to:<br />\nRhonda Graves\, P.O. Box 434\, Rolling Prairie\, IN 46371.<br />\n<br />\nWhen: March 1st\, 2018\, 6:00 p.m. CST<br />\nWhere: Settlers Place\, 3304 Monroe Street\, La Porte\, IN<br />\n<br />\nIf you have any questions\, please contact Rhonda Graves at 219.575.2317.
LOCATION:Settlers Place 3304 Monroe Street La Porte
UID:e.1949.3068
SEQUENCE:3
DTSTAMP:20260424T134307Z
URL:https://members.laportepartnership.com/events/details/sip-and-paint-at-settlers-place-3068
END:VEVENT

END:VCALENDAR
