BEGIN:VCALENDAR
VERSION:2.0
PRODID:-//ChamberMaster//Event Calendar 2.0//EN
METHOD:PUBLISH
X-PUBLISHED-TTL:P3D
REFRESH-INTERVAL:P3D
CALSCALE:GREGORIAN
BEGIN:VEVENT
DTSTART:20170726T220000Z
DTEND:20170727T010000Z
X-MICROSOFT-CDO-ALLDAYEVENT:FALSE
SUMMARY:Sip\, Sample and Savor
DESCRIPTION:Ladies\, come out to Sample a 20 min. Reflexology treatment\, a 20 min. Chair Massage and a 20 min. Hand Paraffin Wax treatment while you sip on Sangria and savor on tasty appetizers. If you have ever wondered how a chair massage can help ease your tension or how beneficial reflexology is on the entire body or curious about what a paraffin wax is then this is a great opportunity for 1 low price to have all three treatments under one roof. This event is open to the first 10 women that pre-register and pre-pay at 219-879-5437. More information on our Facebook page! This is a 21 and older event for Ladies only.
X-ALT-DESC;FMTTYPE=text/html:Ladies\, come out to Sample a 20 min. Reflexology treatment\, a 20 min. Chair Massage and a 20 min. Hand Paraffin Wax treatment while you sip on Sangria and savor on tasty appetizers. If you have ever wondered how a chair massage can help ease your tension or how beneficial reflexology is on the entire body or curious about what a paraffin wax is then this is a great opportunity for 1 low price to have all three treatments under one roof. This event is open to the first 10 women that pre-register and pre-pay at 219-879-5437. More information on our Facebook page! This is a 21 and older event for Ladies only.
LOCATION:Clark's Family Chiropractic 6646 W. Johnson Rd La Porte
UID:e.1949.2840
SEQUENCE:3
DTSTAMP:20260425T041904Z
URL:https://members.laportepartnership.com/events/details/sip-sample-and-savor-2840
END:VEVENT

END:VCALENDAR
