BEGIN:VCALENDAR
VERSION:2.0
PRODID:-//ChamberMaster//Event Calendar 2.0//EN
METHOD:PUBLISH
X-PUBLISHED-TTL:P3D
REFRESH-INTERVAL:P3D
CALSCALE:GREGORIAN
BEGIN:VEVENT
DTSTART:20180531T140000Z
DTEND:20180531T160000Z
X-MICROSOFT-CDO-ALLDAYEVENT:FALSE
SUMMARY:Small Business Regulatory Enforcement Fairness Roundtable
DESCRIPTION:Small Business Regulatory Enforcement Fairness Roundtable Leveling the Regulatory Playing Field: A Conversation with the SBA's Office of the National Ombudsman Thursday\, May 31\, 2018   9 to 11 AM Indiana University South Bend Student Activities Center\, Room 225 941 20th Street\, South Bend\, IN 46615 Small business owners in northern Indiana: take advantage of the unique opportunity to share your concerns about federal regulatory challenges your business is facing directly with those that can make a difference. RSVP & pre-register at https://inroundtablesba.eventbrite.com At the roundtable\, you will be able to:   Learn how the SBA's Office of the National Ombudsman can help your small business save time and money resolving complex regulatory compliance and enforcement issues.   Provide input on regulatory fairness issues impacting your small business and discuss ways the federal government can help your small business.   Get more information on federal resources and assistance for your small business.   Meet local SBA representatives and partners powered by the SBA. We are the voice of small business before the federal government on issues of regulatory reform\, one of the top priorities of the Trump Administration. To learn more\, visit www.sba.gov/ombudsman or call 888-REG-FAIR. SBA's programs and services are provided to the public on a nondiscriminatory basis. Reasonable arrangements for persons with disabilities will be made when requested one week in advance. Contact: Mr. John Kelly at john.kelly@sba.gov
X-ALT-DESC;FMTTYPE=text/html:Small Business Regulatory Enforcement Fairness Roundtable Leveling the Regulatory Playing Field: A Conversation with the SBA&rsquo\;s Office of the National Ombudsman Thursday\, May 31\, 2018 &ndash\; 9 to 11 AM Indiana University South Bend Student Activities Center\, Room 225 941 20th Street\, South Bend\, IN 46615 Small business owners in northern Indiana: take advantage of the unique opportunity to share your concerns about federal regulatory challenges your business is facing directly with those that can make a difference. RSVP &amp\; pre-register at https://inroundtablesba.eventbrite.com At the roundtable\, you will be able to: &#61623\; Learn how the SBA&rsquo\;s Office of the National Ombudsman can help your small business save time and money resolving complex regulatory compliance and enforcement issues. &#61623\; Provide input on regulatory fairness issues impacting your small business and discuss ways the federal government can help your small business. &#61623\; Get more information on federal resources and assistance for your small business. &#61623\; Meet local SBA representatives and partners powered by the SBA. We are the voice of small business before the federal government on issues of regulatory reform\, one of the top priorities of the Trump Administration. To learn more\, visit www.sba.gov/ombudsman or call 888-REG-FAIR. SBA&rsquo\;s programs and services are provided to the public on a nondiscriminatory basis. Reasonable arrangements for persons with disabilities will be made when requested one week in advance. Contact: Mr. John Kelly at john.kelly@sba.gov
LOCATION:Indiana University South Bend Student Activities Center\, Room 225 941 20th Street\, South Bend
UID:e.1949.4167
SEQUENCE:3
DTSTAMP:20260424T115400Z
URL:https://members.laportepartnership.com/events/details/small-business-regulatory-enforcement-fairness-roundtable-4167
END:VEVENT

END:VCALENDAR
