BEGIN:VCALENDAR
VERSION:2.0
PRODID:-//ChamberMaster//Event Calendar 2.0//EN
METHOD:PUBLISH
X-PUBLISHED-TTL:P3D
REFRESH-INTERVAL:P3D
CALSCALE:GREGORIAN
BEGIN:VEVENT
DTSTART:20200404T150000Z
DTEND:20200404T213000Z
X-MICROSOFT-CDO-ALLDAYEVENT:FALSE
SUMMARY:Smithsonian Day - Free Day at the Museum!
DESCRIPTION:The La Porte County Historical Society is pleased to announce its participation in Smithsonian magazine's 16th annual free Museum Day. In order to visit the La Porte County Historical Society Museum for free on Saturday\, April 4\, 2020\, you must download a free ticket at Smithsonian.com/museumday. Each ticket grants the ticket holder and one guest free access to any participating museum on April 4th. One ticket (good for 2 persons) is permitted per email address. A list of participating museums can be found at Smithsonian.com/museumday/search. \n\n\n\nThe annual event allows museums\, zoos\, and cultural centers from all 50 states to emulate the spirit of the Smithsonian Institution's Washington\, D.C. facilities which offer free admission every day. The event is sponsored by the Taiwan Tourism Bureau. Museums from all 50 states have signed up to participate. So\, if you are going to be in a different part of the country\, please take the opportunity to visit a museum in your area!\n\n\n\nPlease contact the Museum with any questions (219-324-6767\, info@laportecountyhistory.org). The Museum is open Tuesday through Saturday\, 10:00 to 4:30\, and is handicapped accessible.
X-ALT-DESC;FMTTYPE=text/html:The La Porte County Historical Society is pleased to announce its participation in Smithsonian magazine&rsquo\;s 16th annual free Museum Day. In order to visit the La Porte County Historical Society Museum for free on Saturday\, April 4\, 2020\, you must download a free ticket at Smithsonian.com/museumday. Each ticket grants the ticket holder and one guest free access to any participating museum on April 4th. One ticket (good for 2 persons) is permitted per email address. A list of participating museums can be found at Smithsonian.com/museumday/search.&nbsp\;<br />\n<br />\nThe annual event allows museums\, zoos\, and cultural centers from all 50 states to emulate the spirit of the Smithsonian Institution&rsquo\;s Washington\, D.C. facilities which offer free admission every day. The event is sponsored by the Taiwan Tourism Bureau. Museums from all 50 states have signed up to participate. So\, if you are going to be in a different part of the country\, please take the opportunity to visit a museum in your area!<br />\n<br />\nPlease contact the Museum with any questions (219-324-6767\, info@laportecountyhistory.org). The Museum is open Tuesday through Saturday\, 10:00 to 4:30\, and is handicapped accessible.
LOCATION:La Porte County Historical Society Museum\, 2405 Indiana Avenue\, La Porte\, IN 46350
UID:e.1949.4572
SEQUENCE:3
DTSTAMP:20260421T121754Z
URL:https://members.laportepartnership.com/events/details/smithsonian-day-free-day-at-the-museum-4572
END:VEVENT

END:VCALENDAR
