BEGIN:VCALENDAR
VERSION:2.0
PRODID:-//ChamberMaster//Event Calendar 2.0//EN
METHOD:PUBLISH
X-PUBLISHED-TTL:P3D
REFRESH-INTERVAL:P3D
CALSCALE:GREGORIAN
BEGIN:VEVENT
DTSTART:20200211T133000Z
DTEND:20200211T150000Z
X-MICROSOFT-CDO-ALLDAYEVENT:FALSE
SUMMARY:Social Media Boot Camp with Chris Mahlmann
DESCRIPTION:Chris Mahlmann of GreatNews.Life will help you foster positive engagement for your business and learn to better connect to communities you serve through a helpful and engaging social media bootcamp. He will touch on easy ways to enhance your social media presence and draw a larger audience to your content. Chris brings an energetic\, authentic perspective to how social media works and how to make it work for you:\n\n\n\n \n\n\n\nEngagement is Everything\n\n\n\nContent is King\n\n\n\nFacebook First\n\n\n\n \n\n\n\nAs the Founder of GreatNews.Life\, the heart of Chris' belief is to form positive\, online communities to spread the great news about where we live\, work\, and play.\n\n\n\n \n\n\n\nContinental Breakfast will be provided. $10 for LEAP Members\; $20 Non-Members. Click the link\, call 219.324.8584 or email lindsayj@laportepartnership.com to register.
X-ALT-DESC;FMTTYPE=text/html:<div data-block="true" data-editor="dfd1b" data-offset-key="3t8jr-0-0" style="font-family: Helvetica\, Arial\, sans-serif\; color: rgb(28\, 30\, 33)\; font-size: 12px\; white-space: pre-wrap\; background-color: rgb(255\, 255\, 255)\;">\n<div class="_1mf _1mj" data-offset-key="3t8jr-0-0" style="position: relative\; direction: ltr\; font-family: inherit\;"><span data-offset-key="3t8jr-0-0" style="font-family: inherit\;">Chris Mahlmann of GreatNews.Life will help you foster positive engagement for your business and learn to better connect to communities you serve through a helpful and engaging social media bootcamp. He will touch on easy ways to enhance your social media presence and draw a larger audience to your content. Chris brings an energetic\, authentic perspective to how social media works and how to make it work for you:</span></div>\n</div>\n\n<div data-block="true" data-editor="dfd1b" data-offset-key="9t3vc-0-0" style="font-family: Helvetica\, Arial\, sans-serif\; color: rgb(28\, 30\, 33)\; font-size: 12px\; white-space: pre-wrap\; background-color: rgb(255\, 255\, 255)\;">\n<div class="_1mf _1mj" data-offset-key="9t3vc-0-0" style="position: relative\; direction: ltr\; font-family: inherit\;">&nbsp\;</div>\n</div>\n\n<div data-block="true" data-editor="dfd1b" data-offset-key="buadc-0-0" style="font-family: Helvetica\, Arial\, sans-serif\; color: rgb(28\, 30\, 33)\; font-size: 12px\; white-space: pre-wrap\; background-color: rgb(255\, 255\, 255)\;">\n<div class="_1mf _1mj" data-offset-key="buadc-0-0" style="position: relative\; direction: ltr\; font-family: inherit\;"><span data-offset-key="buadc-0-0" style="font-family: inherit\;">Engagement is Everything</span></div>\n</div>\n\n<div data-block="true" data-editor="dfd1b" data-offset-key="7d330-0-0" style="font-family: Helvetica\, Arial\, sans-serif\; color: rgb(28\, 30\, 33)\; font-size: 12px\; white-space: pre-wrap\; background-color: rgb(255\, 255\, 255)\;">\n<div class="_1mf _1mj" data-offset-key="7d330-0-0" style="position: relative\; direction: ltr\; font-family: inherit\;"><span data-offset-key="7d330-0-0" style="font-family: inherit\;">Content is King</span></div>\n</div>\n\n<div data-block="true" data-editor="dfd1b" data-offset-key="5nkgh-0-0" style="font-family: Helvetica\, Arial\, sans-serif\; color: rgb(28\, 30\, 33)\; font-size: 12px\; white-space: pre-wrap\; background-color: rgb(255\, 255\, 255)\;">\n<div class="_1mf _1mj" data-offset-key="5nkgh-0-0" style="position: relative\; direction: ltr\; font-family: inherit\;"><span data-offset-key="5nkgh-0-0" style="font-family: inherit\;">Facebook First</span></div>\n</div>\n\n<div data-block="true" data-editor="dfd1b" data-offset-key="9cldu-0-0" style="font-family: Helvetica\, Arial\, sans-serif\; color: rgb(28\, 30\, 33)\; font-size: 12px\; white-space: pre-wrap\; background-color: rgb(255\, 255\, 255)\;">\n<div class="_1mf _1mj" data-offset-key="9cldu-0-0" style="position: relative\; direction: ltr\; font-family: inherit\;">&nbsp\;</div>\n</div>\n\n<div data-block="true" data-editor="dfd1b" data-offset-key="acau3-0-0" style="font-family: Helvetica\, Arial\, sans-serif\; color: rgb(28\, 30\, 33)\; font-size: 12px\; white-space: pre-wrap\; background-color: rgb(255\, 255\, 255)\;">\n<div class="_1mf _1mj" data-offset-key="acau3-0-0" style="position: relative\; direction: ltr\; font-family: inherit\;"><span data-offset-key="acau3-0-0" style="font-family: inherit\;">As the Founder of GreatNews.Life\, the heart of Chris&rsquo\; belief is to form positive\, online communities to spread the great news about where we live\, work\, and play.</span></div>\n</div>\n\n<div data-block="true" data-editor="dfd1b" data-offset-key="cijtb-0-0" style="font-family: Helvetica\, Arial\, sans-serif\; color: rgb(28\, 30\, 33)\; font-size: 12px\; white-space: pre-wrap\; background-color: rgb(255\, 255\, 255)\;">\n<div class="_1mf _1mj" data-offset-key="cijtb-0-0" style="position: relative\; direction: ltr\; font-family: inherit\;">&nbsp\;</div>\n</div>\n\n<div data-block="true" data-editor="dfd1b" data-offset-key="dr5k2-0-0" style="font-family: Helvetica\, Arial\, sans-serif\; color: rgb(28\, 30\, 33)\; font-size: 12px\; white-space: pre-wrap\; background-color: rgb(255\, 255\, 255)\;">\n<div class="_1mf _1mj" data-offset-key="dr5k2-0-0" style="position: relative\; direction: ltr\; font-family: inherit\;"><span data-offset-key="dr5k2-0-0" style="font-family: inherit\;">Continental Breakfast will be provided. $10 for LEAP Members\; $20 Non-Members. Click the link\, call 219.324.8584 or email lindsayj@laportepartnership.com to register.</span></div>\n</div>\n
LOCATION:Holiday Inn Express & Suites 101 E. Shore Ct.\, La Porte
UID:e.1949.4560
SEQUENCE:3
DTSTAMP:20260423T005902Z
URL:https://members.laportepartnership.com/events/details/social-media-boot-camp-with-chris-mahlmann-4560
END:VEVENT

END:VCALENDAR
