BEGIN:VCALENDAR
VERSION:2.0
PRODID:-//ChamberMaster//Event Calendar 2.0//EN
METHOD:PUBLISH
X-PUBLISHED-TTL:P3D
REFRESH-INTERVAL:P3D
CALSCALE:GREGORIAN
BEGIN:VEVENT
DTSTART:20160809T233000Z
DTEND:20160810T003000Z
X-MICROSOFT-CDO-ALLDAYEVENT:FALSE
SUMMARY:Social Security Questions Seminar with Edward Jones- Sarah Brown
DESCRIPTION:Social Security Questions? We've got answers.\n\nSocial Security will likely by the foundation of your retirement income. Before you retire\, it's important to understand your options and the effect your decisions have on your retirement.\n\n\n\nJoin us for our presentation Social Security: Your Questions Answered.\n\nWe'll discuss:\n\n-How does Social Security fit into my retirement income plan?\n\n-When should I start taking benefits?\n\n-What about taxes?\n\n\n\nTuesday\, August 9\, 2016\n\n6:30 p.m.-7:30 p.m.\n\n\n\nSarah Brown's Edward Jones Office\n\n1233 N. State Road 39\n\nLa Porte\, IN 46350\n\n\n\nRefreshments will be served.\n\n\n\nWe hope you and guest will join us. Please call Sherry at 219-325-8828 or email sherry.wilke@edwardjones.com by August 5th.\n\n\n\nEdward Jones\, its employees and financial advisors cannot provide tax or legal advice. Please consult your attorney or qualified tax advisor regarding your situation.
X-ALT-DESC;FMTTYPE=text/html:Social Security Questions? We&#39\;ve got answers.<br />\nSocial Security will likely by the foundation of your retirement income. Before you retire\, it&#39\;s important to understand your options and the effect your decisions have on your retirement.<br />\n<br />\nJoin us for our presentation Social Security: Your Questions Answered.<br />\nWe&#39\;ll discuss:<br />\n-How does Social Security fit into my retirement income plan?<br />\n-When should I start taking benefits?<br />\n-What about taxes?<br />\n<br />\nTuesday\, August 9\, 2016<br />\n6:30 p.m.-7:30 p.m.<br />\n<br />\nSarah Brown&#39\;s Edward Jones Office<br />\n1233 N. State Road 39<br />\nLa Porte\, IN 46350<br />\n<br />\nRefreshments will be served.<br />\n<br />\nWe hope you and guest will join us. Please call Sherry at 219-325-8828 or email sherry.wilke@edwardjones.com by August 5th.<br />\n<br />\nEdward Jones\, its employees and financial advisors cannot provide tax or legal advice. Please consult your attorney or qualified tax advisor regarding your situation.
LOCATION:Edward Jones- Sarah Brown 1233 N. State Road 39 La Porte
UID:e.1949.2605
SEQUENCE:3
DTSTAMP:20260426T003756Z
URL:https://members.laportepartnership.com/events/details/social-security-questions-seminar-with-edward-jones-sarah-brown-08-09-2016-2605
END:VEVENT

END:VCALENDAR
