BEGIN:VCALENDAR
VERSION:2.0
PRODID:-//ChamberMaster//Event Calendar 2.0//EN
METHOD:PUBLISH
X-PUBLISHED-TTL:P3D
REFRESH-INTERVAL:P3D
CALSCALE:GREGORIAN
BEGIN:VEVENT
DTSTART:20180626T153000Z
DTEND:20180626T170000Z
X-MICROSOFT-CDO-ALLDAYEVENT:FALSE
SUMMARY:South Bend Cubs Coaches Camp- Hitting Camp
DESCRIPTION:Work with current South Bend Cubs hitting coach Ricardo Medina. Coach Medina will work with campers on hitting techniques and strategies for campers to become better hitters \n\n \n\n10:30 AM - 12 PM\n\nAges 12 - 18\n\nCamp fee of $30\n\n \n\nAbout the instructor:\n\n \n\nRicardo Medina returns to South Bend as the club's hitting coach after spending 2016 with the club. He spent last season with Double-A Tennessee and has been in the Cubs system as a coach\, manager or scout since 1999.
X-ALT-DESC;FMTTYPE=text/html:<div class="description group userHTML" id="enrollmentDesc">\n<div>Work with current South Bend Cubs hitting coach Ricardo Medina. Coach Medina will work with campers on hitting techniques and strategies for campers to become better hitters&nbsp\;</div>\n\n<div>&nbsp\;</div>\n\n<div>10:30 AM - 12 PM</div>\n\n<div>Ages 12 - 18</div>\n\n<div>Camp fee of $30</div>\n\n<div>&nbsp\;</div>\n\n<div>About the instructor:</div>\n\n<div>&nbsp\;</div>\n\n<div>Ricardo Medina returns to South Bend as the club&#39\;s hitting coach after spending 2016 with the club. He spent last season with Double-A Tennessee and has been in the Cubs system as a coach\, manager or scout since 1999.</div>\n</div>\n\n<div class="notes userHTML" id="enrollmentNotes">&nbsp\;</div>\n
LOCATION:525 S. Lafayette Street\, South Bend\, IN
UID:e.1949.4181
SEQUENCE:3
DTSTAMP:20260424T084523Z
URL:https://members.laportepartnership.com/events/details/south-bend-cubs-coaches-camp-hitting-camp-4181
END:VEVENT

END:VCALENDAR
