BEGIN:VCALENDAR
VERSION:2.0
PRODID:-//ChamberMaster//Event Calendar 2.0//EN
METHOD:PUBLISH
X-PUBLISHED-TTL:P3D
REFRESH-INTERVAL:P3D
CALSCALE:GREGORIAN
BEGIN:VEVENT
DTSTART:20170409T003000Z
DTEND:20170409T023000Z
X-MICROSOFT-CDO-ALLDAYEVENT:FALSE
SUMMARY:South Pacific: In Concert
DESCRIPTION:South Pacific: In Concert will take place Saturday\, April 8th at 7:30pm at the La Porte County Civic Auditorium on 1001 Ridge St. in La Porte. Order tickets online at www.lcso.net\, \, or in person at Roxy Music Shop or the Civic's Box Office in LaPorte\, or at the LaPorte County Convention and Visitors Bureau in Michigan City. Table seating is a steal at $30 per ticket and is only guaranteed when purchased ahead online. However\, balcony seating can be purchased ahead or at the door on April 8th: Adults $20\, Senior $18\, Children and Students with school ID are always FREE! Table seating offers the option of pre-sale wine to be awaiting your party that evening by ordering online or calling 219-362-9020. Light hor d'oeuvres\, sweet and savory\, will be available for purchase and a cash bar is provided. Buy your tickets today and join the La Porte County Symphony Orchestra as they present to the community one of the greatest shows of all time\, Rodgers and Hammerstein's Award Winning\, South Pacific: In Concert!
X-ALT-DESC;FMTTYPE=text/html:<strong><span style="color:black\;"><span style="font-family:arial\,sans-serif\;"><span style="font-size:10.0pt\;">South Pacific: In Concert</span></span></span></strong><span style="color:black\;"><span style="font-family:arial\,sans-serif\;"><span style="font-size:10.0pt\;"> will take place Saturday\, April 8th at 7:30pm at the La Porte County Civic Auditorium on 1001 Ridge St. in La Porte. Order tickets online at <a alt="http://www.lcso.net\,%20" href="http://r20.rs6.net/tn.jsp?f=001KushouKM9xhJve9Iqb9rELa-tkfC6l8CMyGnKECfYsMpjWRKjMHSETKuD0CBdt8tNW_RqhCALukTekSQnTR9zLSSyHe8z9Sh47cXDZxknugFf1eb3xp4b8vDzRtxW0zo4OKn-m_m6amUpM04C0mes0NcMcXIEvAg7fAnpg9aYTI=&amp\;c=8nROEUWValxwNvDoEGkWNvs1Q18ntrgplOcY9CWqmQ2P0AeDEOgZMQ==&amp\;ch=j1wDwQqqM8uoxXheuA7m2nYz4qPHTmLkkeIoKYMFojDSkYpdJoNATw==" shape="rect" target="_blank">www.lcso.net\, </a>\, or in person at Roxy Music Shop or the Civic&#39\;s Box Office in LaPorte\, or at the LaPorte County Convention and Visitors Bureau in Michigan City. Table seating is a steal at $30 per ticket and is only guaranteed when purchased ahead online. However\, balcony seating can be purchased ahead or at the door on April 8th: Adults $20\, Senior $18\, Children and Students with school ID are always FREE! Table seating offers the option of pre-sale wine to be awaiting your party that evening by ordering online or calling 219-362-9020. Light hor d&#39\;oeuvres\, sweet and savory\, will be available for purchase and a cash bar is provided. Buy your tickets today and join the La Porte County Symphony Orchestra as they present to the community one of the greatest shows of all time\, Rodgers and Hammerstein&#39\;s Award Winning\, <strong>South Pacific: In Concert!</strong></span></span></span>
LOCATION:La Porte Civic Auditorium 1001 Ridge Street
UID:e.1949.2757
SEQUENCE:3
DTSTAMP:20260425T114613Z
URL:https://members.laportepartnership.com/events/details/south-pacific-in-concert-2757
END:VEVENT

END:VCALENDAR
