BEGIN:VCALENDAR
VERSION:2.0
PRODID:-//ChamberMaster//Event Calendar 2.0//EN
METHOD:PUBLISH
X-PUBLISHED-TTL:P3D
REFRESH-INTERVAL:P3D
CALSCALE:GREGORIAN
BEGIN:VEVENT
DTSTART:20170921T203000Z
DTEND:20170921T230000Z
X-MICROSOFT-CDO-ALLDAYEVENT:FALSE
SUMMARY:South Shore Leadership Center\, Pop-Up Event & Ribbon Cutting
DESCRIPTION:The South Shore Leadership Center is hosting our first Pop-Up event! A Pop-Up event is a networking opportunity for current LNI or SLYCE participants to meet Alumni. Pop-Up events will occur at the end of each LNI Module (four per year) at various locations in the region.\n\n\n\nThis particular Pop-Up is unique not only because it is the first\, but because SSLC will be holding a ribbon cutting with three local Chambers of Commerce to showcase the growth of our organization. Drinks\, appetizers\, and networking are on the top of list for this event. You are welcome to arrive at 3:30pm\, the ribbon cuttings will happen approximately at 4pm\, and networking will be the remainder of the event.
X-ALT-DESC;FMTTYPE=text/html:<span style="color:gray\; font-family:helvetica\,sans-serif\; font-size:12pt">The South Shore Leadership Center is hosting our first Pop-Up event! A Pop-Up event is a networking opportunity for current LNI or SLYCE participants to meet Alumni. Pop-Up events will occur at the end of each LNI Module (four per year) at various locations in the region.<br />\n<br />\nThis particular Pop-Up is unique not only because it is the first\, but because SSLC will be holding a ribbon cutting with three local Chambers of Commerce to showcase the growth of our organization.&nbsp\;Drinks\, appetizers\, and networking are on the top of list for this event.&nbsp\;You are welcome to arrive&nbsp\;at 3:30pm\, the ribbon cuttings will happen approximately at 4pm\, and networking will be the remainder of the event.</span>
LOCATION:South Shore Leadership Center 6100 Southport Road Portage\, IN 46368
UID:e.1949.2847
SEQUENCE:3
DTSTAMP:20260425T002657Z
URL:https://members.laportepartnership.com/events/details/south-shore-leadership-center-pop-up-event-ribbon-cutting-2847
END:VEVENT

END:VCALENDAR
