BEGIN:VCALENDAR
VERSION:2.0
PRODID:-//ChamberMaster//Event Calendar 2.0//EN
METHOD:PUBLISH
X-PUBLISHED-TTL:P3D
REFRESH-INTERVAL:P3D
CALSCALE:GREGORIAN
BEGIN:VEVENT
DTSTART:20161105T000000Z
DTEND:20161105T020000Z
X-MICROSOFT-CDO-ALLDAYEVENT:FALSE
SUMMARY:Spire Farm-to-Fork Trivia Night
DESCRIPTION:Trivia Night is back at Spire! There is ten round of questions and prizes will be given to the best team name\, team having the most fun\, the losing team\, and winning team. It is $30 per team of six and the fun will begin at 6 PM. Give us a call at (219) 575-7272 we only have room for 10 teams!
X-ALT-DESC;FMTTYPE=text/html:<span class="_4n-j fsl">Trivia Night is back at Spire! There is ten round of questions and prizes will be given to the best team name\, team having the most fun\, the losing team\, and winning team. It is $30 per team of six and the fun will begin at 6 PM. Give us a call at (219) 575-7272 we only have room for 10 teams!</span>
LOCATION:Spire Farm-to-Fork Cuisine 299 W. Johnson Road La Porte
UID:e.1949.2638
SEQUENCE:3
DTSTAMP:20260425T185104Z
URL:https://members.laportepartnership.com/events/details/spire-farm-to-fork-trivia-night-2638
END:VEVENT

END:VCALENDAR
