BEGIN:VCALENDAR
VERSION:2.0
PRODID:-//ChamberMaster//Event Calendar 2.0//EN
METHOD:PUBLISH
X-PUBLISHED-TTL:P3D
REFRESH-INTERVAL:P3D
CALSCALE:GREGORIAN
BEGIN:VEVENT
DTSTART:20180131T133000Z
DTEND:20180131T150000Z
X-MICROSOFT-CDO-ALLDAYEVENT:FALSE
SUMMARY:Spirit of Leadership Award & Breakfast Meeting
DESCRIPTION:We are excited to announce that our Board of Directors have chosen to honor Nate Loucks\, Pastor of State Street Community Church & Pax Center President\, with a "Spirit of Leadership" award for his outstanding servant leadership in the community. Through his visionary leadership\, hundreds of individuals and families have been provided food\, clothing and fellowship.\n\nYou are invited to our Award Ceremony taking place over breakfast at Best Western in La Porte on Wednesday\, Jan 31st.  Please join us to recognize Nate for all that he does to assist those in need.\n\n \n\nRegistration begins at 7:30 a.m. and breakfast will be served at 7:45 a.m.  \n\n \n\nThe cost to attend is $12 per person. Registration is required. Use link above to register.
X-ALT-DESC;FMTTYPE=text/html:<span style="font-family:arial\,sans-serif\;"><span style="font-size:10.0pt\;">We are excited to announce that our Board of Directors have chosen to honor <strong>Nate Loucks\, Pastor of State Street Community Church &amp\; Pax Center President\, with a &quot\;Spirit of Leadership&quot\;</strong> award for his outstanding servant leadership in the community. Through his visionary leadership\, hundreds of individuals and families have been provided food\, clothing and fellowship.</span></span><br />\n<span style="font-family:arial\,sans-serif\;"><span style="font-size:10.0pt\;">You are invited to our <strong>Award Ceremony</strong> taking place over breakfast at <strong>Best Western in La Porte</strong> on <strong>Wednesday\, Jan 31st. &nbsp\;</strong>Please join us to recognize Nate for all that he does to assist those in need.</span></span><br />\n&nbsp\;<br />\n<span style="font-family:arial\,sans-serif\;"><span style="font-size:10.0pt\;">Registration begins at 7:30 a.m. and breakfast will be served at 7:45 a.m.&nbsp\; </span></span><br />\n&nbsp\;<br />\n<span style="font-family:arial\,sans-serif\;"><span style="font-size:10.0pt\;">The cost to attend is $12 per person. Registration is required. Use link above to register.</span></span>
LOCATION:Best Western Plus 444 Pine Lake Avenue La Porte
UID:e.1949.3028
SEQUENCE:3
DTSTAMP:20260424T174638Z
URL:https://members.laportepartnership.com/events/details/spirit-of-leadership-award-breakfast-meeting-3028
END:VEVENT

END:VCALENDAR
