BEGIN:VCALENDAR
VERSION:2.0
PRODID:-//ChamberMaster//Event Calendar 2.0//EN
METHOD:PUBLISH
X-PUBLISHED-TTL:P3D
REFRESH-INTERVAL:P3D
CALSCALE:GREGORIAN
BEGIN:VEVENT
DTSTART:20230416T200000Z
DTEND:20230416T213000Z
X-MICROSOFT-CDO-ALLDAYEVENT:FALSE
SUMMARY:Spring Fling Bouquet Workshop
DESCRIPTION:April Showers Bring May Flowers!\n\nJoin us at Interlude At Etropal and BloomsbyCassidy to create your own bouquet of wooden flowers! An arrangement that will never wilt. A perfect activity for all ages! All materials included\, cash bar\, and light snacks to all attendees.
X-ALT-DESC;FMTTYPE=text/html:April Showers Bring May Flowers!<br />\nJoin us at Interlude At Etropal and BloomsbyCassidy to create your own bouquet of wooden flowers! An arrangement that will never wilt. A perfect activity for all ages! All materials included\, cash bar\, and light snacks to all attendees.&nbsp\;
LOCATION:Interlude At Etropal 703 Lincolnway\, 2nd Floor La Porte\, IN 46350
UID:e.1949.4977
SEQUENCE:3
DTSTAMP:20260423T011349Z
URL:https://members.laportepartnership.com/events/details/spring-fling-bouquet-workshop-4977
END:VEVENT

END:VCALENDAR
