BEGIN:VCALENDAR
VERSION:2.0
PRODID:-//ChamberMaster//Event Calendar 2.0//EN
METHOD:PUBLISH
X-PUBLISHED-TTL:P3D
REFRESH-INTERVAL:P3D
CALSCALE:GREGORIAN
BEGIN:VEVENT
DTSTART:20180329T230000Z
DTEND:20180330T010000Z
X-MICROSOFT-CDO-ALLDAYEVENT:FALSE
SUMMARY:Spring into Health!- Free Health Fair
DESCRIPTION:Join the Centers for Vein Care for their free Spring into Health Fair on Thursday\, March 29 from 6-8 p.m. This will take place at their La Porte Clinic\, 204 Legacy Plaza West. Vein disease symptoms include: varicose veins\, leg swelling\, leg fatigue/heaviness\, aching\, restless legs\, itching/burning\, leg pain\, spider veins\, skin discoloration\, and leg ulcers. Join us to learn about available treatments! Improve your health and quality of life! Their will be vein ultrasounds\, consults\, chair massages\, and a sclerotherapy raffle ($200 value). Register today at 219.299.8515. Walk-ins will also be welcome. More information is available at centersforveincare.com.
X-ALT-DESC;FMTTYPE=text/html:Join the Centers for Vein Care for their free Spring into Health Fair on Thursday\, March 29 from 6-8 p.m. This will take place at their La Porte Clinic\, 204 Legacy Plaza West. Vein disease symptoms include: varicose veins\, leg swelling\, leg fatigue/heaviness\, aching\, restless legs\, itching/burning\, leg pain\, spider veins\, skin discoloration\, and leg ulcers. Join us to learn about available treatments! Improve your health and quality of life! Their will be vein ultrasounds\, consults\, chair massages\, and a sclerotherapy raffle ($200 value). Register today at 219.299.8515. Walk-ins will also be welcome. More information is available at centersforveincare.com.
LOCATION:Centers for Pain Control & Vein Care 204 Legacy Plaza West La Porte
UID:e.1949.3075
SEQUENCE:3
DTSTAMP:20260424T134441Z
URL:https://members.laportepartnership.com/events/details/spring-into-health-free-health-fair-3075
END:VEVENT

END:VCALENDAR
