BEGIN:VCALENDAR
VERSION:2.0
PRODID:-//ChamberMaster//Event Calendar 2.0//EN
METHOD:PUBLISH
X-PUBLISHED-TTL:P3D
REFRESH-INTERVAL:P3D
CALSCALE:GREGORIAN
BEGIN:VEVENT
DTSTART:20190428T160000Z
DTEND:20190428T190000Z
X-MICROSOFT-CDO-ALLDAYEVENT:FALSE
SUMMARY:Spring Plow Day with the LaPorte County Draft Horse Association
DESCRIPTION:On Sunday\, April 28\, the La Porte County Draft Horse Association will host a Spring Plow Day at the Door Prairie Red Barn in La Porte. Plowing will be from 11 am to 2 pm. Come and see different breeds of draft horses using horse-drawn implements in the field. This is free event and concessions will be available for purchase. The Door Prairie Red Barn is on Highway 35 South in La Porte\, adjacent to the La Porte County Historical Society museum. The La Porte County Draft Horse Association is dedicated to the education\, preservation\, and exhibition of all draft horse breeds. Each event provides the opportunity to capture the interest of future generations\, ensuring this important piece of American life preserved. For more information or if you would like to participate in plowing with your own horses contact Plow Day Committee members Larry Smith at (219) 716-4041 or Bob Goethals at (219) 608-4716.
X-ALT-DESC;FMTTYPE=text/html:On Sunday\, April 28\, the La Porte County Draft Horse Association will host a Spring Plow Day at the Door Prairie Red Barn in La Porte. Plowing will be from 11 am to 2 pm. Come and see different breeds of draft horses using horse-drawn implements in the field. This is free event and concessions will be available for purchase. The Door Prairie Red Barn is on Highway 35 South in La Porte\, adjacent to the La Porte County Historical Society museum. The La Porte County Draft Horse Association is dedicated to the education\, preservation\, and exhibition of all draft horse breeds. Each event provides the opportunity to capture the interest of future generations\, ensuring this important piece of American life preserved. For more information or if you would like to participate in plowing with your own horses contact Plow Day Committee members Larry Smith at (219) 716-4041 or Bob Goethals at (219) 608-4716.
LOCATION:Red Barn adjacent to the LaPorte County Historical Society
UID:e.1949.4347
SEQUENCE:3
DTSTAMP:20260423T165756Z
URL:https://members.laportepartnership.com/events/details/spring-plow-day-with-the-laporte-county-draft-horse-association-4347
END:VEVENT

END:VCALENDAR
