BEGIN:VCALENDAR
VERSION:2.0
PRODID:-//ChamberMaster//Event Calendar 2.0//EN
METHOD:PUBLISH
X-PUBLISHED-TTL:P3D
REFRESH-INTERVAL:P3D
CALSCALE:GREGORIAN
BEGIN:VEVENT
DTSTART:20180310T143000Z
DTEND:20180310T230000Z
X-MICROSOFT-CDO-ALLDAYEVENT:FALSE
SUMMARY:Spring Volunteer Training- Center for Hospice Care
DESCRIPTION:Center for Hospice Care needs volunteers in St. Joseph\, LaPorte\, Elkhart\, LaGrange\, Starke\, Marshall\, Kosciusko\, Fulton and Porter Counties. The next Volunteer Training is in March. No previous health care experience is necessary. Volunteers are needed for: Patient Care\, Nursing Home\, Inpatient Unit\, Camp Evergreen\, Complementary Comfort Care\, Caring Touch\, Hair Stylists and Barbers\, 11th Hour Volunteers\, Life Bio Story Volunteers\, Office Support\, Veteran Volunteers\, Bereavement\, Fundraising Events\, Notary\, Pet Visitation\, Handy Helpers\, Tuck-In Volunteers\, and Hospitality.\n\n \n\nTraining is comprehensive and will prepare volunteers for various opportunities. There are three levels of training totaling 15 hours and the level of training you need depends on what volunteer opportunity you are interested in. Center for Hospice Care offers online training options as well. You may discuss the options with the Volunteer Recruitment and Training Coordinator. Next Training dates are: Saturday\, March 10 & March 24\, 8:30 am - 5:00 pm at the Mishawaka Campus\, 501 Comfort Place.\n\n \n\nRegistration required. Please contact Kristiana Donahue\, Volunteer Recruitment and Training Coordinator\, (574) 286 -1198 or donahuek@cfhcare.org.
X-ALT-DESC;FMTTYPE=text/html:<div style="color: rgb(69\, 69\, 69)\; font-family: Arial\, Helvetica\, sans-serif\; font-size: 13.3333px\;">Center for Hospice Care needs volunteers in St. Joseph\, LaPorte\, Elkhart\, LaGrange\, Starke\, Marshall\, Kosciusko\, Fulton and Porter Counties.&nbsp\;The next Volunteer Training is in March. No previous health care experience is necessary. Volunteers are needed for:&nbsp\;<span _mce_style="font-size: 10pt\;" style="font-size: 10pt\;">Patient Care\,&nbsp\;</span><span _mce_style="font-size: 10pt\;" style="font-size: 10pt\;">Nursing Home\,</span><span _mce_style="font-size: 10pt\;" style="font-size: 10pt\;">&nbsp\;</span><span _mce_style="font-size: 10pt\;" style="font-size: 10pt\;">Inpatient Unit\,&nbsp\;</span><span _mce_style="font-size: 10pt\;" style="font-size: 10pt\;">Camp Evergreen\,</span><span _mce_style="font-size: 10pt\;" style="font-size: 10pt\;">&nbsp\;</span><span _mce_style="font-size: 10pt\;" style="font-size: 10pt\;">Complementary Comfort Care\,&nbsp\;</span><span _mce_style="font-size: 10pt\;" style="font-size: 10pt\;">Caring Touch\,&nbsp\;</span><span _mce_style="font-size: 10pt\;" style="font-size: 10pt\;">Hair Stylists and Barbers\,&nbsp\;</span><span _mce_style="font-size: 10pt\;" style="font-size: 10pt\;">11th Hour Volunteers\,&nbsp\;</span><span _mce_style="font-size: 10pt\;" style="font-size: 10pt\;">Life Bio Story Volunteers\,&nbsp\;</span><span _mce_style="font-size: 10pt\;" style="font-size: 10pt\;">Office Support\,&nbsp\;</span><span _mce_style="font-size: 10pt\;" style="font-size: 10pt\;">Veteran Volunteers\,&nbsp\;</span><span _mce_style="font-size: 10pt\;" style="font-size: 10pt\;">Bereavement\,&nbsp\;</span><span _mce_style="font-size: 10pt\;" style="font-size: 10pt\;">Fundraising Events\,&nbsp\;</span><span _mce_style="font-size: 10pt\;" style="font-size: 10pt\;">Notary\,&nbsp\;</span><span _mce_style="font-size: 10pt\;" style="font-size: 10pt\;">Pet Visitation\,&nbsp\;</span><span _mce_style="font-size: 10pt\;" style="font-size: 10pt\;">Handy Helpers\,&nbsp\;</span><span _mce_style="font-size: 10pt\;" style="font-size: 10pt\;">Tuck-In Volunteers\, and&nbsp\;</span><span _mce_style="font-size: 10pt\;" style="font-size: 10pt\;">Hospitality.</span></div>\n\n<div style="color: rgb(69\, 69\, 69)\; font-family: Arial\, Helvetica\, sans-serif\; font-size: 13.3333px\;">&nbsp\;</div>\n\n<div style="color: rgb(69\, 69\, 69)\; font-family: Arial\, Helvetica\, sans-serif\; font-size: 13.3333px\;">Training is comprehensive and will prepare volunteers for various opportunities. There are three levels of training totaling 15 hours and the level of training you need depends on what volunteer opportunity you are interested in. Center for Hospice Care offers online training options as well. You may discuss the options with the Volunteer Recruitment and Training Coordinator.&nbsp\;<span _mce_style="font-size: 10pt\;" style="font-size: 10pt\;">Next Training dates are:&nbsp\;</span><span _mce_style="font-size: 10pt\;" style="font-size: 10pt\;">Saturday\, March 10 &amp\; March 24\, 8:30 am - 5:00 pm at the&nbsp\;</span><span _mce_style="font-size: 10pt\;" style="font-size: 10pt\;">Mishawaka Campus\, 501 Comfort Place.</span></div>\n\n<div style="color: rgb(69\, 69\, 69)\; font-family: Arial\, Helvetica\, sans-serif\; font-size: 13.3333px\;">&nbsp\;</div>\n\n<div style="color: rgb(69\, 69\, 69)\; font-family: Arial\, Helvetica\, sans-serif\; font-size: 13.3333px\;">Registration required. Please contact&nbsp\;Kristiana Donahue\, Volunteer Recruitment and Training Coordinator\, (574) 286 -1198 or donahuek@cfhcare.org.</div>\n
LOCATION:Center for Hospice Care Mishawaka Campus 501 Comfort Place Mishawaka
UID:e.1949.3048
SEQUENCE:3
DTSTAMP:20260424T134149Z
URL:https://members.laportepartnership.com/events/details/spring-volunteer-training-center-for-hospice-care-3048
END:VEVENT

END:VCALENDAR
