BEGIN:VCALENDAR
VERSION:2.0
PRODID:-//ChamberMaster//Event Calendar 2.0//EN
METHOD:PUBLISH
X-PUBLISHED-TTL:P3D
REFRESH-INTERVAL:P3D
CALSCALE:GREGORIAN
BEGIN:VEVENT
DTSTART:20180213T200000Z
DTEND:20180214T000000Z
X-MICROSOFT-CDO-ALLDAYEVENT:FALSE
SUMMARY:STAR Center Open House & Ribbon Cutting
DESCRIPTION:Come visit STAR Center (Shared Technology And Resources) the new home of Unity Foundation of La Porte County\, United Way of La Porte County\, Healthy Communities including Covering Kids and Families\, and La Porte County Drug Free Partnership. Tour the new facility\, have some refreshments\, and maybe win a door prize! We can't wait to show you our new digs.
X-ALT-DESC;FMTTYPE=text/html:Come visit STAR Center (Shared Technology And Resources) the new home of Unity Foundation of La Porte County\, United Way of La Porte County\, Healthy Communities including Covering Kids and Families\, and La Porte County Drug Free Partnership. Tour the new facility\, have some refreshments\, and maybe win a door prize! We can&#39\;t wait to show you our new digs.
LOCATION:The STAR Center 422 Franklin Street Michigan City
UID:e.1949.3045
SEQUENCE:3
DTSTAMP:20260424T154931Z
URL:https://members.laportepartnership.com/events/details/star-center-open-house-ribbon-cutting-3045
END:VEVENT

END:VCALENDAR
