BEGIN:VCALENDAR
VERSION:2.0
PRODID:-//ChamberMaster//Event Calendar 2.0//EN
METHOD:PUBLISH
X-PUBLISHED-TTL:P3D
REFRESH-INTERVAL:P3D
CALSCALE:GREGORIAN
BEGIN:VEVENT
DTSTART:20160923T233000Z
DTEND:20160924T020000Z
X-MICROSOFT-CDO-ALLDAYEVENT:FALSE
SUMMARY:String Magic at Etropal
DESCRIPTION:Come to Etropal for String Magic! This duo plays great music while also performing table-side magic. Join in for the fun on Friday\, September 23 at 6:30 p.m. This show is complimentary with your dinner purchase.
X-ALT-DESC;FMTTYPE=text/html:Come to Etropal for String Magic! This duo plays great music while also performing table-side magic. Join in for the fun on Friday\, September 23 at 6:30 p.m. This show is complimentary with your dinner purchase.
LOCATION:Etropal Restaurant & Lounge 701 Lincolnway La Porte
UID:e.1949.2629
SEQUENCE:3
DTSTAMP:20260425T223013Z
URL:https://members.laportepartnership.com/events/details/string-magic-at-etropal-2629
END:VEVENT

END:VCALENDAR
