BEGIN:VCALENDAR
VERSION:2.0
PRODID:-//ChamberMaster//Event Calendar 2.0//EN
METHOD:PUBLISH
X-PUBLISHED-TTL:P3D
REFRESH-INTERVAL:P3D
CALSCALE:GREGORIAN
BEGIN:VEVENT
DTSTART:20171202T150000Z
DTEND:20171202T210000Z
X-MICROSOFT-CDO-ALLDAYEVENT:FALSE
SUMMARY:Stuff-A-Sleigh Food Drive
DESCRIPTION:An annual food drive held to replenish the Salvation Army pantry shelves. Salvation Army representatives will be on hand to accept donations of food or money.
X-ALT-DESC;FMTTYPE=text/html:An annual food drive held to replenish the Salvation Army pantry shelves. Salvation Army representatives will be on hand to accept donations of food or money.
LOCATION:Al's Supermarket\, 702 E. Lincolnway
UID:e.1949.2960
SEQUENCE:3
DTSTAMP:20260424T193206Z
URL:https://members.laportepartnership.com/events/details/stuff-a-sleigh-food-drive-2960
END:VEVENT

END:VCALENDAR
