BEGIN:VCALENDAR
VERSION:2.0
PRODID:-//ChamberMaster//Event Calendar 2.0//EN
METHOD:PUBLISH
X-PUBLISHED-TTL:P3D
REFRESH-INTERVAL:P3D
CALSCALE:GREGORIAN
BEGIN:VEVENT
DTSTART:20180707T180000Z
DTEND:20180707T200000Z
X-MICROSOFT-CDO-ALLDAYEVENT:FALSE
SUMMARY:"Summer of Love" Fashion Show at the Museum
DESCRIPTION:The La Porte County Historical Society Museum is holding the third event of the "Summer of Love" on Saturday\, July 7th\, starting at 1 PM at the museum. This time the event is a Fashion Show featuring the Historical Society's collection of clothing from the 1960's and '70's. Also featured will be fashions from the vintage clothing collection of Sandy Young\, who will be modeling that day.\n\n    Some of the fashions shown will include hostess dresses\, evening gowns\, a Jackie Kennedy look-alike outfit\, and a few surprises. The fashion show will take place on the lower level of the museum. The museum is located at 2405 Indiana Ave. at the south entrance to La Porte.\n\n  Come early and view the "Summer of Love" display that will be up until the end of August. Featured are more fashions and an exhibit of news events from the 1960's. The Historical Society recently acquired all new mannequins and they are making their debut this summer.\n\n        The museum is accessible to those with disabilities. For more information\, including admission prices\, call 219-324-6767.  Visit the website at www.laportecountyhistory.org\, or email: info@laportecountyhistory.org.
X-ALT-DESC;FMTTYPE=text/html:<p class="Normal" style="margin-top: 0pt\; margin-bottom: 8pt\; line-height: 14pt\; font-family: Calibri\, Arial\; font-size: 11pt\; color: rgb(0\, 0\, 0)\;"><span class="Normal__Char" style="font-family: &quot\;Times New Roman&quot\;\, Arial\; font-size: 14pt\;">&nbsp\;The La Porte County Historical Society Museum is holding the third event of the &ldquo\;Summer of Love&rdquo\; on Saturday\, July 7<span class="Normal__Char" style="font-size: smaller\; vertical-align: super\;">th</span>\, starting at 1 PM at the museum. This time the event is a Fashion Show featuring the Historical Society&rsquo\;s collection of clothing from the 1960&rsquo\;s and &lsquo\;70&rsquo\;s. Also featured will be fashions from the vintage clothing collection of Sandy Young\, who will be modeling that day.</span></p>\n\n<p class="Normal" style="margin-top: 0pt\; margin-bottom: 8pt\; line-height: 14pt\; font-family: Calibri\, Arial\; font-size: 11pt\; color: rgb(0\, 0\, 0)\;"><span class="Normal__Char" style="font-family: &quot\;Times New Roman&quot\;\, Arial\; font-size: 14pt\;">&nbsp\;&nbsp\;&nbsp\; Some of the fashions shown will include hostess dresses\, evening gowns\, a Jackie Kennedy look-alike outfit\, and a few surprises. The fashion show will take place on the lower level of the museum. The museum is located at 2405 Indiana Ave. at the south entrance to La Porte.</span></p>\n\n<p class="Normal" style="margin-top: 0pt\; margin-bottom: 8pt\; line-height: 14pt\; font-family: Calibri\, Arial\; font-size: 11pt\; color: rgb(0\, 0\, 0)\;"><span class="Normal__Char" style="font-family: &quot\;Times New Roman&quot\;\, Arial\; font-size: 14pt\;">&nbsp\; Come early and view the &ldquo\;Summer of Love&rdquo\; display that will be up until the end of August. Featured are more fashions and an exhibit of news events from the 1960&rsquo\;s. The Historical Society recently acquired all new mannequins and they are making their debut this summer.</span></p>\n\n<p class="Normal" style="margin-top: 0pt\; margin-bottom: 8pt\; line-height: 14pt\; font-family: Calibri\, Arial\; font-size: 11pt\; color: rgb(0\, 0\, 0)\;"><span class="Normal__Char" style="font-family: &quot\;Times New Roman&quot\;\, Arial\; font-size: 14pt\;">&nbsp\;&nbsp\; &nbsp\;&nbsp\; &nbsp\; The museum is accessible to those with disabilities. For more information\, including admission prices<a name="_GoBack"></a>\, call 219-324-6767.&nbsp\; Visit the website at&nbsp\;</span><a href="https://webmail04.domainlocalhost.com/owa/redir.aspx?C=uO5y4AWWUpQcGzs7wsEFDlBrcOKwen3qvffkRJWQJYOBbp4rWeDVCA..&amp\;URL=http%3a%2f%2fwww.laportecountyhistory.org" rel="noopener noreferrer" target="_blank"><span class="Hyperlink__Char" style="color: rgb(5\, 99\, 193)\;"><span class="Hyperlink__Char" style="font-family: &quot\;Times New Roman&quot\;\, Arial\; font-size: 14pt\;">www.laportecountyhistory.org</span></span></a><span class="Normal__Char" style="font-family: &quot\;Times New Roman&quot\;\, Arial\; font-size: 14pt\;">\, or email:&nbsp\;</span><a href="https://webmail04.domainlocalhost.com/owa/redir.aspx?C=4X3cSNTvCp_4fG5QM7ZpPNtBHUJVDo4ffXcPA2B_KYSBbp4rWeDVCA..&amp\;URL=mailto%3ainfo%40laportecountyhistory.org" rel="noopener noreferrer" target="_blank"><span class="Hyperlink__Char" style="color: rgb(5\, 99\, 193)\;"><span class="Hyperlink__Char" style="font-family: &quot\;Times New Roman&quot\;\, Arial\; font-size: 14pt\;">info@laportecountyhistory.org</span></span></a><span class="Normal__Char" style="font-family: &quot\;Times New Roman&quot\;\, Arial\; font-size: 14pt\;">.</span></p>\n
LOCATION:La Porte County Historical Society Museum 2405 Indiana Avenue La Porte
UID:e.1949.4198
SEQUENCE:3
DTSTAMP:20260424T072246Z
URL:https://members.laportepartnership.com/events/details/summer-of-love-fashion-show-at-the-museum-4198
END:VEVENT

END:VCALENDAR
