BEGIN:VCALENDAR
VERSION:2.0
PRODID:-//ChamberMaster//Event Calendar 2.0//EN
METHOD:PUBLISH
X-PUBLISHED-TTL:P3D
REFRESH-INTERVAL:P3D
CALSCALE:GREGORIAN
BEGIN:VEVENT
DTSTART:20180609T180000Z
DTEND:20180609T200000Z
X-MICROSOFT-CDO-ALLDAYEVENT:FALSE
SUMMARY:"Summer of Love" Painting Party at La Porte County Historical Society Museum
DESCRIPTION:"Summer of Love" at the Museum\n\n    The La Porte County Historical Society Museum will be celebrating the 1960's in a big way this summer. From fun '60's fashions to current events\, the '60's defined an era. Where were you 50 years ago in 1968? Were you still in high school? Did you serve in the Vietnam War? Come and relive those times at the museum from June through August.\n\n  To kick off the "Summer of Love"\, art instructor Dori Huber\, will be having a painting party here at the museum on Saturday\, June 9th starting at 1 PM in the meeting room. For $35.00\, which includes museum admission\, you can paint a true symbol of the '60's\, the Peace Sign\, specially designed by Dori. All supplies are included. Refreshments will be served. Please make reservations by calling 219-324-6767. \n\n   Dori Huber holds a Bachelor of Arts Degree from Ohio State University and a Master of Education from Purdue University Northwest. She taught art in the South Central district for decades and continues to instruct students at PNW and the Lubeznik Center for the Arts. Many of her students have received state\, national and international recognition. She will also be instructing at "Arts in the Park" at Fox Park this summer.\n\n  The museum is accessible to those with disabilities. For more information\, call 219-324-6767.  Visit the website at www.laportecountyhistory.org\, or email: info@laportecountyhistory.org.
X-ALT-DESC;FMTTYPE=text/html:<strong><span style="font-family:times new roman\,serif\;"><span style="font-size:14.0pt\;">&ldquo\;Summer of Love&rdquo\; at the Museum</span></span></strong><br />\n<span style="font-family:times new roman\,serif\;"><span style="font-size:14.0pt\;">&nbsp\;&nbsp\;&nbsp\; The La Porte County Historical Society Museum will be celebrating the 1960&rsquo\;s in a big way this summer. From fun &lsquo\;60&rsquo\;s fashions to current events\, the &lsquo\;60&rsquo\;s defined an era. Where were you 50 years ago in 1968? Were you still in high school? Did you serve in the Vietnam War? Come and relive those times at the museum from June through August.</span></span><br />\n<span style="font-family:times new roman\,serif\;"><span style="font-size:14.0pt\;">&nbsp\; To kick off the &ldquo\;Summer of Love&rdquo\;\, art instructor Dori Huber\, will be having a painting party here at the museum on Saturday\, June 9<sup>th</sup> starting at 1 PM in the meeting room. For $35.00\, which includes museum admission\, you can paint a true symbol of the &lsquo\;60&rsquo\;s\, the Peace Sign\, specially designed by Dori. All supplies are included. Refreshments will be served. Please make reservations by calling 219-324-6767. </span></span><br />\n&nbsp\;&nbsp\; <span style="color:black\;"><span style="font-family:times new roman\,serif\;"><span style="font-size:14.0pt\;">Dori Huber holds a Bachelor of Arts Degree from Ohio State University and a Master of Education from Purdue University Northwest. She taught art in the South Central district for decades and continues to instruct students at PNW and the Lubeznik Center for the Arts. Many of her students have received state\, national and international recognition. She will also be instructing at &ldquo\;Arts in the Park&rdquo\; at Fox Park this summer.</span></span></span><br />\n<span style="color:black\;"><span style="font-family:times new roman\,serif\;"><span style="font-size:14.0pt\;">&nbsp\; The museum is accessible to those with disabilities. For more information\, call 219-324-6767.&nbsp\; Visit the website at </span></span></span><a href="http://www.laportecountyhistory.org/"><span style="font-family:times new roman\,serif\;"><span style="font-size:14.0pt\;">www.laportecountyhistory.org</span></span></a><span style="color:black\;"><span style="font-family:times new roman\,serif\;"><span style="font-size:14.0pt\;">\, or email: </span></span></span><a href="mailto:info@laportecountyhistory.org"><span style="font-family:times new roman\,serif\;"><span style="font-size:14.0pt\;">info@laportecountyhistory.org</span></span></a><span style="color:black\;"><span style="font-family:times new roman\,serif\;"><span style="font-size:14.0pt\;">. </span></span></span><br />\n&nbsp\;
LOCATION:La Porte County Historical Society Museum 2405 Indiana Avenue La Porte
UID:e.1949.4171
SEQUENCE:3
DTSTAMP:20260424T085333Z
URL:https://members.laportepartnership.com/events/details/summer-of-love-painting-party-at-la-porte-county-historical-society-museum-4171
END:VEVENT

END:VCALENDAR
