BEGIN:VCALENDAR
VERSION:2.0
PRODID:-//ChamberMaster//Event Calendar 2.0//EN
METHOD:PUBLISH
X-PUBLISHED-TTL:P3D
REFRESH-INTERVAL:P3D
CALSCALE:GREGORIAN
BEGIN:VEVENT
DTSTART:20190524T150000Z
DTEND:20190524T150000Z
X-MICROSOFT-CDO-ALLDAYEVENT:FALSE
SUMMARY:Summers Plumbing Heating & Cooling Ribbon Cutting Ceremony
DESCRIPTION:Summers Plumbing Heating & Cooling will hold a ribbon cutting on May 24 at 10 a.m. to celebrate its expansion into La Porte. The business will be opening at 1233 N. IN-39. The business will offer refreshments and tours of the facility and provide an opportunity to meet the staff. All are invited to come see this brand new facility that will provide exceptional service by dedicated\, highly experienced\, staff. The La Porte Economic Advancement Partnership will administer the ribbon cutting.\n\nSummers Plumbing Heating & Cooling has been providing superior service at affordable prices throughout Indiana and Ohio for the past 40 years. They have 16 locations and even more service areas to better meet their customers plumbing\, heating\, or air conditioning needs. They service residential customers as well as local businesses and their wide range of services and top-quality products mean a new system from them will be running smoothly and efficiently in no time at all. From minor plumbing leaks to complete HVAC unit replacements\, there's no job too big or too small for them to handle.\n\nTo learn more about Summers Plumbing Heating & Cooling\, visit www.summersphc.com. For more information about the La Porte Economic Advancement Partnership\, visit www.lpchamber.com\, like their Facebook page\, or call 219.324.8584.
X-ALT-DESC;FMTTYPE=text/html:<span style="color: rgb(51\, 51\, 51)\; font-family: georgia\, serif\; font-size: 16px\; background-color: rgb(255\, 255\, 255)\;">Summers Plumbing Heating &amp\; Cooling will hold a ribbon cutting on May 24 at 10 a.m. to celebrate its expansion into La Porte. The business will be opening at 1233 N. IN-39.&nbsp\;</span><span style="font-family:georgia\,serif\;"><span style="font-size:12.0pt\;">The business will offer refreshments and tours of the facility and provide an opportunity to meet the staff. All are invited to come see this brand new facility that will provide exceptional service by dedicated\, highly experienced\, staff. The La Porte Economic Advancement Partnership will administer the ribbon cutting.</span></span><br />\n<span style="font-family:georgia\,serif\;"><span style="font-size:12.0pt\;">Summers Plumbing Heating &amp\; Cooling has been providing superior service at affordable prices throughout Indiana and Ohio for the past 40 years. They have 16 locations and even more service areas to better meet their customers plumbing\, heating\, or air conditioning needs. They service residential customers as well as local businesses and their wide range of services and top-quality products mean a new system from them will be running smoothly and efficiently in no time at all. From minor plumbing leaks to complete HVAC unit replacements\, there&rsquo\;s no job too big or too small for them to handle.</span></span><br />\n<span style="font-family:georgia\,serif\;"><span style="font-size:12.0pt\;">To learn more about Summers Plumbing Heating &amp\; Cooling\, visit www.summersphc.com. For more information about the La Porte Economic Advancement Partnership\, visit www.lpchamber.com\, like their Facebook page\, or call 219.324.8584.</span></span>
LOCATION:1233 N. IN-39 La Porte
UID:e.1949.4363
SEQUENCE:3
DTSTAMP:20260423T165842Z
URL:https://members.laportepartnership.com/events/details/summers-plumbing-heating-cooling-ribbon-cutting-ceremony-4363
END:VEVENT

END:VCALENDAR
