BEGIN:VCALENDAR
VERSION:2.0
PRODID:-//ChamberMaster//Event Calendar 2.0//EN
METHOD:PUBLISH
X-PUBLISHED-TTL:P3D
REFRESH-INTERVAL:P3D
CALSCALE:GREGORIAN
BEGIN:VEVENT
DTSTART;VALUE=DATE:20161001
DTEND;VALUE=DATE:20161002
TRANSP:TRANSPARENT
X-MICROSOFT-CDO-ALLDAYEVENT:TRUE
SUMMARY:Superhero Farm Fest
DESCRIPTION:Family Advocates and Tryon Farm Institute are organizing a family friendly 5K/10K Trail Run and Kids Fun Run at Tryon Farm to benefit the volunteer advocacy services that CASA provides to local children in foster care. Participants are invited to dress as their favorite superhero and participate in the races\, costume contest\, a pumpkin decorating contest\, Family Fun Zone\, food\, music and other fun festivities! Music performed by: The Deep Fried Pickle Project and Gunpowder Treason. The Deep Fried Pickle Project will have an instrument petting zoo and an opportunity for kids to make their own jug band instruments. The Family Fun Zone will feature the bands\, food vendors\, carnival games\, bounce house and face painting. A great day to bring chairs or blanket and enjoy the SUPERHERO farm atmosphere!
X-ALT-DESC;FMTTYPE=text/html:Family Advocates and Tryon Farm Institute are organizing a family friendly 5K/10K Trail Run and Kids Fun Run at Tryon Farm to benefit the volunteer advocacy services that CASA provides to local children in foster care. Participants are invited to dress as their favorite superhero and participate in the races\, costume contest\, a pumpkin decorating contest\, Family Fun Zone\, food\, music and other fun festivities! Music performed by: The Deep Fried Pickle Project and Gunpowder Treason. The Deep Fried Pickle Project will have an instrument petting zoo and an opportunity for kids to make their own jug band instruments. The Family Fun Zone will feature the bands\, food vendors\, carnival games\, bounce house and face painting. A great day to bring chairs or blanket and enjoy the SUPERHERO farm atmosphere!
LOCATION:Tryon Farm 1500 Tryon Road Michigan City\, IN 46360
UID:e.1949.2595
SEQUENCE:3
DTSTAMP:20260425T204252Z
URL:https://members.laportepartnership.com/events/details/superhero-farm-fest-10-01-2016-2595
END:VEVENT

END:VCALENDAR
