BEGIN:VCALENDAR
VERSION:2.0
PRODID:-//ChamberMaster//Event Calendar 2.0//EN
METHOD:PUBLISH
X-PUBLISHED-TTL:P3D
REFRESH-INTERVAL:P3D
CALSCALE:GREGORIAN
BEGIN:VEVENT
DTSTART:20180628T233000Z
DTEND:20180629T023000Z
X-MICROSOFT-CDO-ALLDAYEVENT:FALSE
SUMMARY:Tacos and Agave at Journeyman Distillery
DESCRIPTION:Join us for a casual and festive dinner event   perfect for makers and enthusiasts! This dinner will be a Oaxacan influenced 3-course family style dinner featuring complimentary artisanal agave spirit cocktails & tastings.\n\nWe'll start the evening with appetizers\, moving to a family style taco feast\, finishing with dessert. All courses come with complimentary cocktail pairings.\n\nJust before we start dessert\, we'll engage in a tasting and an educational open discussion with Bill and Johanna Welter along with Guest Speaker\, Lou Bank   Mezcal Expert & Founder of S.A.C.R.E.D. Lou will share stories about the people who make the spirits and how those spirits are improving the quality of life in the communities where it is made.\n\nTickets are all-inclusive. Each guest will leave with a complimentary 200ml bottle of authentic agave spirit & authentic drinking vessel.\n\nS.A.C.R.E.D.: Saving Agave for Culture\, Recreation\, Education\, and Development   is a USA-based\, 501c3 not-for-profit that uses traditional and artisanal agave spirits from rural Mexico to help improve the quality of life in the communities where those spirits are made.\n\nA portion of your ticket price will be donated to S.A.C.R.E.D. for projects in those communities\, including the development and maintenance of libraries and greenhouses.\n\nMore information about S.A.C.R.E.D. is available at:sacredagave.org\n\n\n\nIf you are purchasing tickets separate from a group\, please let us know! Send your information to info@journeymandistillery.com and we will ensure you are seated with your group.\n\n \n\n\nThis event is for 21+ only.\n\n*Please Note: This menu will not be available until one week prior to the dinner. We can only guarantee accommodations for Gluten Free dietary restrictions.\n\n\n\nNO REFUNDS.
X-ALT-DESC;FMTTYPE=text/html:Join us for a casual and festive dinner event &ndash\; perfect for makers and enthusiasts! This dinner will be a Oaxacan influenced 3-course family style dinner featuring complimentary artisanal agave spirit cocktails&nbsp\;&amp\;&nbsp\;tastings.<br />\nWe&rsquo\;ll start the evening with appetizers\, moving to a family style taco feast\, finishing with dessert.&nbsp\;All courses come with complimentary cocktail pairings.<br />\nJust before we start dessert\, we&rsquo\;ll engage in a tasting and an educational open discussion with Bill and Johanna Welter along with Guest Speaker\, Lou Bank &ndash\; Mezcal Expert &amp\; Founder of S.A.C.R.E.D. Lou will share stories about the people who make the spirits and how those spirits are improving the quality of life in the communities where it is made.<br />\nTickets are all-inclusive. Each guest will leave with a complimentary 200ml bottle of authentic agave spirit &amp\; authentic drinking vessel.<br />\nS.A.C.R.E.D.:&nbsp\;Saving Agave for Culture\, Recreation\, Education\, and Development &ndash\;&nbsp\;is a USA-based\, 501c3 not-for-profit that uses traditional and artisanal agave spirits from rural Mexico to help improve the quality of life in the communities where those spirits are made.<br />\nA portion of your ticket price will be donated to&nbsp\;S.A.C.R.E.D. for&nbsp\;projects in those communities\, including the development and maintenance of libraries and greenhouses.<br />\n<em>More information about S.A.C.R.E.D. is available at:<a href="https://l.facebook.com/l.php?u=http%3A%2F%2Fsacredagave.org%2F&amp\;h=ATMb9h-JJpTqpQiGIXrqG5p8gHJ2xbOAKX5tZM9PvUS19S6uCeTPi0l7gbMuwKcwkwxVtMdgV7OrSyKqaKy3K3WsS2f80HDezuarOYtoMtVa78KWLzFq0TqZ" rel="noopener noreferrer nofollow" style="color:rgb(0\, 127\, 140)\;text-decoration-line:none\;padding-top:0px\;" target="_blank">sacredagave.org</a></em><br />\n<br />\nIf you are purchasing tickets separate from a group\, please let us know! Send your information to info@journeymandistillery.com&nbsp\;and we will ensure you are seated with your group.<br />\n&nbsp\;\n<hr /><br />\n<em><strong>This event is for 21+ only.</strong></em><br />\n<em><strong><em>*Please Note: This menu will not be available until one week prior to the dinner.&nbsp\;</em>We can only guarantee accommodations for Gluten Free dietary restrictions.</strong></em><br />\n<br />\nNO REFUNDS.
LOCATION:Journeyman Distillery 109 Generations Drive Three Oaks\, MI 49128
UID:e.1949.4182
SEQUENCE:3
DTSTAMP:20260424T102807Z
URL:https://members.laportepartnership.com/events/details/tacos-and-agave-at-journeyman-distillery-4182
END:VEVENT

END:VCALENDAR
