BEGIN:VCALENDAR
VERSION:2.0
PRODID:-//ChamberMaster//Event Calendar 2.0//EN
METHOD:PUBLISH
X-PUBLISHED-TTL:P3D
REFRESH-INTERVAL:P3D
CALSCALE:GREGORIAN
BEGIN:VEVENT
DTSTART:20180614T210000Z
DTEND:20180614T234500Z
X-MICROSOFT-CDO-ALLDAYEVENT:FALSE
SUMMARY:Take the Lead
DESCRIPTION:Horses that are well rounded and present with acceptable behaviors are crucial to any Equine-Assisted Activity & Therapy program. We depend on our equine partners to be able to service our program participants in a manner that is safe\, fun\, and provides the well rounded therapies they require. Gaits of Change offers various training techniques to assist with problematic behaviors so that your equine partners can become a dependable\, safe\, and trusted member of your program. ? "Taking The Lead" is an innovative teaching method for horse handling that teaches the Leading Method. Horse handlers in every industry are able to establish a safe\, controlled leading system without the use of restrictive devices of any kind. The horses learn to trust you and know what is expected of them through clear direction that is given when teaching the horse to take a position beside you. You are able to develop a partnership with your equine that results in trust. ? "Take The Lead" can teach any horse and human combination how to lead with courage and respect. This system lays the foundation to create a wonderful partnership with your equine. Anyone with our without horse experience can be successful\, safe\, and accomplished once they are taught how to "Take The Lead". ? Additional Benefits Horses learn desirable behaviors through desensitizing methods Promotes a less stressful environment for the horse Volunteer Training becomes easy and successful for everyone
X-ALT-DESC;FMTTYPE=text/html:Horses that are well rounded and present with acceptable behaviors are crucial to any Equine-Assisted Activity &amp\; Therapy program. We depend on our equine partners to be able to service our program participants in a manner that is safe\, fun\, and provides the well rounded therapies they require. Gaits of Change offers various training techniques to assist with problematic behaviors so that your equine partners can become a dependable\, safe\, and trusted member of your program. ? &quot\;Taking The Lead&quot\; is an innovative teaching method for horse handling that teaches the Leading Method. Horse handlers in every industry are able to establish a safe\, controlled leading system without the use of restrictive devices of any kind. The horses learn to trust you and know what is expected of them through clear direction that is given when teaching the horse to take a position beside you. You are able to develop a partnership with your equine that results in trust. ? &quot\;Take The Lead&quot\; can teach any horse and human combination how to lead with courage and respect. This system lays the foundation to create a wonderful partnership with your equine. Anyone with our without horse experience can be successful\, safe\, and accomplished once they are taught how to &quot\;Take The Lead&quot\;. ? Additional Benefits Horses learn desirable behaviors through desensitizing methods Promotes a less stressful environment for the horse Volunteer Training becomes easy and successful for everyone
LOCATION:9375 W 300 N Michigan City\, IN 46360
UID:e.1949.4160
SEQUENCE:3
DTSTAMP:20260424T101237Z
URL:https://members.laportepartnership.com/events/details/take-the-lead-4160
END:VEVENT

END:VCALENDAR
