BEGIN:VCALENDAR
VERSION:2.0
PRODID:-//ChamberMaster//Event Calendar 2.0//EN
METHOD:PUBLISH
X-PUBLISHED-TTL:P3D
REFRESH-INTERVAL:P3D
CALSCALE:GREGORIAN
BEGIN:VEVENT
DTSTART:20180115T150000Z
DTEND:20180115T230000Z
X-MICROSOFT-CDO-ALLDAYEVENT:FALSE
SUMMARY:Talk to a Lawyer Day at the La Porte County Public Library
DESCRIPTION:The Indiana State Bar Association will again sponsor the pro bono 'Talk to a Lawyer Day'\, Monday\, January 15\, 2018\, from 9:00am - 5:00pm at the La Porte County Public Library at 904 Indiana Ave.\,\n\nLa Porte.\n\nThis event is held annually on Martin Luther King\, Jr. Day.\n\nMembers of the public will have the opportunity of a short\, complimentary consultation with an attorney from the La Porte County Bar Association at no cost to the customer.\n\nThe appointments are on a first come\, first served basis.\n\nCustomers can go to the check-out desk at the top of the stairway of the Main Library to be assigned to one of three rooms that will be used.\n\nFor more information go to laportelibrary.org and follow our social media accounts.
X-ALT-DESC;FMTTYPE=text/html:The Indiana State Bar Association will again sponsor the pro bono &#39\;Talk to a Lawyer Day&#39\;\, Monday\, January 15\, 2018\, from 9:00am - 5:00pm at the La Porte County Public Library at 904 Indiana Ave.\,<br />\nLa Porte.<br />\nThis event is held annually on Martin Luther King\, Jr. Day.<br />\nMembers of the public will have the opportunity of a short\, complimentary consultation with an attorney from the La Porte County Bar Association at no cost to the customer.<br />\nThe appointments are on a first come\, first served basis.<br />\nCustomers can go to the check-out desk at the top of the stairway of the Main Library to be assigned to one of three rooms that will be used.<br />\nFor more information go to laportelibrary.org and follow our social media accounts.
LOCATION:La Porte County Public Library 904 Indiana Avenue La Porte
UID:e.1949.3014
SEQUENCE:3
DTSTAMP:20260424T174649Z
URL:https://members.laportepartnership.com/events/details/talk-to-a-lawyer-day-at-the-la-porte-county-public-library-3014
END:VEVENT

END:VCALENDAR
