BEGIN:VCALENDAR
VERSION:2.0
PRODID:-//ChamberMaster//Event Calendar 2.0//EN
METHOD:PUBLISH
X-PUBLISHED-TTL:P3D
REFRESH-INTERVAL:P3D
CALSCALE:GREGORIAN
BEGIN:VEVENT
DTSTART:20190621T230000Z
DTEND:20190622T020000Z
X-MICROSOFT-CDO-ALLDAYEVENT:FALSE
SUMMARY:Taste and Tribute - Concert with Johnny V
DESCRIPTION:Enjoy music by local artist Johnny V as he does a tribute to Neil Young and the Classics! This is a family-friendly event. Music\, snacks\, beer and wine available. Tickets on sale on our website or at the door. Tickets are $10.
X-ALT-DESC;FMTTYPE=text/html:<p><span style="background-color:transparent\; color:rgb(0\, 0\, 0)\; font-family:times new roman\; font-size:12pt">Enjoy music by local artist Johnny V as he does a tribute to Neil Young and the Classics! This is a family-friendly event. Music\, snacks\, beer and wine available. Tickets on sale on our website or at the door. Tickets are $10.</span></p>\n
LOCATION:Friendship Botanic Gardens 2055 East US Highway 12 Michigan City\, IN 46360
UID:e.1949.4321
SEQUENCE:3
DTSTAMP:20260423T133257Z
URL:https://members.laportepartnership.com/events/details/taste-and-tribute-concert-with-johnny-v-4321
END:VEVENT

END:VCALENDAR
