BEGIN:VCALENDAR
VERSION:2.0
PRODID:-//ChamberMaster//Event Calendar 2.0//EN
METHOD:PUBLISH
X-PUBLISHED-TTL:P3D
REFRESH-INTERVAL:P3D
CALSCALE:GREGORIAN
BEGIN:VEVENT
DTSTART:20160923T170000Z
DTEND:20160923T173000Z
X-MICROSOFT-CDO-ALLDAYEVENT:FALSE
SUMMARY:TCC\, Verizon Ribbon Cutting & Check Presentation
DESCRIPTION:TCC\, the largest Verizon Authorized Retailer in the U.S.\, announces today the opening of its newly relocated store in La Porte\, Indiana. The store was previously at 1405 E. Lincolnway.\n\n \n\nLocated at 155 Boyd Blvd.\, the new store offers guests the ultimate experience in interactivity while shopping for wireless devices\, accessories and home solutions\, and is designed as a destination for guests to get hands-on with the latest wireless devices. \n\n \n\nOn Friday\, September 23\, TCC will hold a grand opening event for the La Porte community with a ribbon cutting ceremony at noon. In celebration of the new store\, TCC will donate $500 to the following local charities: Youth Service Bureau\, The Pax Center and Mom's Club of La Porte.\n\n \n\n"We are excited to open a brand new store for existing and new La Porte shoppers\," said Scott Moorehead\, CEO of TCC. "Our La Porte customers will enjoy their experience at TCC while learning about the latest devices\, gadgets and accessories from our expert staff."\n\n \n\nFounded in 1991\, TCC exists in more than 800 locations across 38 states today. Through the nationally-recognized Culture of Good movement\, TCC gives back to nonprofit organizations in each community where it does business. In addition to contributing monetary donations\, employees volunteer their time to help address the greatest needs of local organizations. \n\n \n\nTo learn more about the company\, visit www.TCCRocks.com. Consumers can connect with TCC on social media at http://www.facebook.com/tcctalk and @TCCTalk on Twitter.
X-ALT-DESC;FMTTYPE=text/html:<strong style="line-height: 20.8px\;"><u><span style="color: blue\;"><span style="font-family: arial\, sans-serif\;"><span style="font-size: 10pt\;"><a href="http://www.tccrocks.com/">TCC</a></span></span></span></u></strong><span style="line-height: 20.8px\; font-family: arial\, sans-serif\;"><span style="font-size: 10pt\;">\, the largest Verizon Authorized Retailer in the U.S.\, announces today the opening of its newly relocated store in La Porte\, Indiana. The store was previously at 1405 E.&nbsp\;Lincolnway.</span></span><br style="line-height: 20.8px\;" />\n<span style="line-height: 20.8px\;">&nbsp\;</span><br style="line-height: 20.8px\;" />\n<span style="line-height: 20.8px\; font-family: arial\, sans-serif\;"><span style="font-size: 10pt\;">Located at 155 Boyd Blvd.\, the new store offers guests the ultimate experience in interactivity while shopping for wireless devices\, accessories and home solutions\, and is designed as a destination for guests to get hands-on with the latest wireless devices.&nbsp\;</span></span><br style="line-height: 20.8px\;" />\n<span style="line-height: 20.8px\;">&nbsp\;</span><br style="line-height: 20.8px\;" />\n<span style="line-height: 20.8px\; font-family: arial\, sans-serif\;"><span style="font-size: 10pt\;">On Friday\, September 23\, TCC will hold a grand opening event for the La Porte community with a ribbon cutting ceremony at noon. In celebration of the new store\, TCC will donate $500 to the following local charities: Youth Service Bureau\, The Pax Center and Mom&rsquo\;s Club of La Porte.</span></span><br style="line-height: 20.8px\;" />\n<span style="line-height: 20.8px\;">&nbsp\;</span><br style="line-height: 20.8px\;" />\n<span style="line-height: 20.8px\; background-image: initial\; background-attachment: initial\; background-size: initial\; background-origin: initial\; background-clip: initial\; background-position: initial\; background-repeat: initial\;"><span style="font-family: arial\, sans-serif\;"><span style="font-size: 10pt\;">&ldquo\;We are excited to open a brand new store for existing and new La Porte shoppers\,&rdquo\; said Scott Moorehead\, CEO of TCC. &ldquo\;</span></span></span><span style="line-height: 20.8px\; font-family: arial\, sans-serif\;"><span style="font-size: 10pt\;">Our La Porte customers will enjoy their experience at TCC while learning about the latest devices\, gadgets and accessories from our expert staff.&rdquo\;</span></span><br style="line-height: 20.8px\;" />\n<span style="line-height: 20.8px\;">&nbsp\;</span><br style="line-height: 20.8px\;" />\n<span style="line-height: 20.8px\; font-family: arial\, sans-serif\;"><span style="font-size: 10pt\;">Founded in 1991\, TCC exists in more than 800 locations across 38 states today. Through the nationally-recognized&nbsp\;<a href="http://www.cultureofgood.com/">Culture of Good</a>&nbsp\;movement\, TCC gives back to nonprofit organizations in each community where it does business. In addition to contributing monetary donations\, employees volunteer their time to help address the greatest needs of local organizations.&nbsp\;</span></span><br style="line-height: 20.8px\;" />\n<span style="line-height: 20.8px\;">&nbsp\;</span><br style="line-height: 20.8px\;" />\n<span style="line-height: 20.8px\; font-family: arial\, sans-serif\;"><span style="font-size: 10pt\;">To learn more about the company\, visit&nbsp\;<a href="http://www.tccrocks.com/">www.TCCRocks.com</a>. Consumers can connect with TCC on social media at&nbsp\;<a href="http://www.facebook.com/tcctalk">http://www.facebook.com/tcctalk</a>&nbsp\;and&nbsp\;<a href="https://twitter.com/tcctalk">@TCCTalk</a>&nbsp\;on Twitter.</span></span>
LOCATION:155 Boyd Boulevard (In front of Walmart) La Porte
UID:e.1949.2618
SEQUENCE:3
DTSTAMP:20260426T003349Z
URL:https://members.laportepartnership.com/events/details/tcc-verizon-ribbon-cutting-check-presentation-2618
END:VEVENT

END:VCALENDAR
