BEGIN:VCALENDAR
VERSION:2.0
PRODID:-//ChamberMaster//Event Calendar 2.0//EN
METHOD:PUBLISH
X-PUBLISHED-TTL:P3D
REFRESH-INTERVAL:P3D
CALSCALE:GREGORIAN
BEGIN:VEVENT
DTSTART:20160621T000000Z
DTEND:20160621T020000Z
X-MICROSOFT-CDO-ALLDAYEVENT:FALSE
SUMMARY:TECHNICALLY LAPORTE MEETUP
DESCRIPTION:Topic TBD. If you've got something you'd like to talk about or present on\, let me know at jd@opendoorcoworking.com. Please RSVP at the Technically La Porte Meetup page.
X-ALT-DESC;FMTTYPE=text/html:Topic TBD. If you&rsquo\;ve got something you&rsquo\;d like to talk about or present on\, let me know at&nbsp\;<a href="mailto:jd@opendoorcoworking.com">jd@opendoorcoworking.com</a>. Please RSVP at&nbsp\;<a href="http://www.meetup.com/Technically-LaPorte/events/231722466/">the Technically La Porte Meetup page</a>.
LOCATION:Open Door Coworking\, 1705 State St\, Bldg A
UID:e.1949.2578
SEQUENCE:3
DTSTAMP:20260426T033703Z
URL:https://members.laportepartnership.com/events/details/technically-laporte-meetup-06-20-2016-2578
END:VEVENT

END:VCALENDAR
