BEGIN:VCALENDAR
VERSION:2.0
PRODID:-//ChamberMaster//Event Calendar 2.0//EN
METHOD:PUBLISH
X-PUBLISHED-TTL:P3D
REFRESH-INTERVAL:P3D
CALSCALE:GREGORIAN
BEGIN:VEVENT
DTSTART:20180912T210000Z
DTEND:20180912T220000Z
X-MICROSOFT-CDO-ALLDAYEVENT:FALSE
SUMMARY:Temple News Agency Grand Re-Opening & Ribbon Cutting
DESCRIPTION:Join Temple News Agency for a ribbon cutting and open house event on Wednesday\, Sept. 12 from 4 p.m. to 5 p.m. The ribbon cutting will take place at 4:30 p.m. at Temple News Agency\, 816 Jefferson Ave. in La Porte and will be administered by the Greater La Porte Chamber of Commerce.\n\n\n\nThere is no cost to attend. Join us as Temple News Agency celebrates their grand re-opening under new ownership. Registration is encouraged and can be done by calling the Chamber at (219) 362-3178 or online at business.lpchamber.com/events.
X-ALT-DESC;FMTTYPE=text/html:<span style="color:black\;">Join <strong><a href="http://templenewsagency.com/">Temple News Agency</a></strong> </span><span style="color:black\;">for a ribbon cutting and open house event on Wednesday\, Sept. 12 from 4 p.m. to 5 p.m. The ribbon cutting will take place at 4:30 p.m. at Temple News Agency\, 816 Jefferson Ave. in La Porte and will be administered by the <strong><a href="https://www.lpchamber.com/">Greater La Porte Chamber of Commerce</a>.</strong><br />\n<br />\nThere is no cost to attend. </span>Join us as Temple News Agency celebrates their grand re-opening under new ownership.<span style="color:black\;"> Registration is encouraged and can be done by calling the Chamber at (219) 362-3178 or online at business.lpchamber.com/events.</span><br />\n<br />\n<br />\n&nbsp\;
LOCATION:816 Jefferson Ave. La Porte\, IN 46350
UID:e.1949.4248
SEQUENCE:3
DTSTAMP:20260424T055415Z
URL:https://members.laportepartnership.com/events/details/temple-news-agency-grand-re-opening-ribbon-cutting-4248
END:VEVENT

END:VCALENDAR
